BEGIN:VCALENDAR
VERSION:2.0
PRODID:-//Dietetyk XXI Wieku - ECPv6.15.12.2//NONSGML v1.0//EN
CALSCALE:GREGORIAN
METHOD:PUBLISH
X-WR-CALNAME:Dietetyk XXI Wieku
X-ORIGINAL-URL:https://beta.dietetykxxiwieku.pl
X-WR-CALDESC:Wydarzenia dla Dietetyk XXI Wieku
REFRESH-INTERVAL;VALUE=DURATION:PT1H
X-Robots-Tag:noindex
X-PUBLISHED-TTL:PT1H
BEGIN:VTIMEZONE
TZID:Europe/Warsaw
BEGIN:DAYLIGHT
TZOFFSETFROM:+0100
TZOFFSETTO:+0200
TZNAME:CEST
DTSTART:20270328T010000
END:DAYLIGHT
BEGIN:STANDARD
TZOFFSETFROM:+0200
TZOFFSETTO:+0100
TZNAME:CET
DTSTART:20271031T010000
END:STANDARD
BEGIN:DAYLIGHT
TZOFFSETFROM:+0100
TZOFFSETTO:+0200
TZNAME:CEST
DTSTART:20280326T010000
END:DAYLIGHT
BEGIN:STANDARD
TZOFFSETFROM:+0200
TZOFFSETTO:+0100
TZNAME:CET
DTSTART:20281029T010000
END:STANDARD
BEGIN:DAYLIGHT
TZOFFSETFROM:+0100
TZOFFSETTO:+0200
TZNAME:CEST
DTSTART:20290325T010000
END:DAYLIGHT
BEGIN:STANDARD
TZOFFSETFROM:+0200
TZOFFSETTO:+0100
TZNAME:CET
DTSTART:20291028T010000
END:STANDARD
BEGIN:DAYLIGHT
TZOFFSETFROM:+0100
TZOFFSETTO:+0200
TZNAME:CEST
DTSTART:20300331T010000
END:DAYLIGHT
BEGIN:STANDARD
TZOFFSETFROM:+0200
TZOFFSETTO:+0100
TZNAME:CET
DTSTART:20301027T010000
END:STANDARD
END:VTIMEZONE
BEGIN:VEVENT
DTSTART;VALUE=DATE:20280921
DTEND;VALUE=DATE:20280922
DTSTAMP:20260425T234204
CREATED:20250508T120308Z
LAST-MODIFIED:20250730T111749Z
UID:10000458-1853107200-1853193599@beta.dietetykxxiwieku.pl
SUMMARY:Newsletter dietetyczny
DESCRIPTION:Krótki opis wydarzenia. Jedno zdanie\, które nie będzie bardzo obszerne. Krótki opis wydarzenia. Jedno zdanie\, które nie będzie bardzo obszerne.
URL:https://beta.dietetykxxiwieku.pl/event/newsletter-dietetyczny-5/2028-09-21/
ATTACH;FMTTYPE=image/png:https://beta.dietetykxxiwieku.pl/wp-content/uploads/2025/05/Badania-mikrobioty-i-stosowanie-probiotykow-u-osob-zdrowych-podsumowanie-zalecen-i-wytycznych.png
END:VEVENT
BEGIN:VEVENT
DTSTART;VALUE=DATE:20280928
DTEND;VALUE=DATE:20280929
DTSTAMP:20260425T234204
CREATED:20250508T120308Z
LAST-MODIFIED:20250730T111749Z
UID:10000459-1853712000-1853798399@beta.dietetykxxiwieku.pl
SUMMARY:Newsletter dietetyczny
DESCRIPTION:Krótki opis wydarzenia. Jedno zdanie\, które nie będzie bardzo obszerne. Krótki opis wydarzenia. Jedno zdanie\, które nie będzie bardzo obszerne.
URL:https://beta.dietetykxxiwieku.pl/event/newsletter-dietetyczny-5/2028-09-28/
ATTACH;FMTTYPE=image/png:https://beta.dietetykxxiwieku.pl/wp-content/uploads/2025/05/Badania-mikrobioty-i-stosowanie-probiotykow-u-osob-zdrowych-podsumowanie-zalecen-i-wytycznych.png
END:VEVENT
BEGIN:VEVENT
DTSTART;VALUE=DATE:20281005
DTEND;VALUE=DATE:20281006
DTSTAMP:20260425T234204
CREATED:20250508T120308Z
LAST-MODIFIED:20250730T111749Z
UID:10000460-1854316800-1854403199@beta.dietetykxxiwieku.pl
SUMMARY:Newsletter dietetyczny
DESCRIPTION:Krótki opis wydarzenia. Jedno zdanie\, które nie będzie bardzo obszerne. Krótki opis wydarzenia. Jedno zdanie\, które nie będzie bardzo obszerne.
URL:https://beta.dietetykxxiwieku.pl/event/newsletter-dietetyczny-5/2028-10-05/
ATTACH;FMTTYPE=image/png:https://beta.dietetykxxiwieku.pl/wp-content/uploads/2025/05/Badania-mikrobioty-i-stosowanie-probiotykow-u-osob-zdrowych-podsumowanie-zalecen-i-wytycznych.png
END:VEVENT
BEGIN:VEVENT
DTSTART;VALUE=DATE:20281012
DTEND;VALUE=DATE:20281013
DTSTAMP:20260425T234204
CREATED:20250508T120308Z
LAST-MODIFIED:20250730T111749Z
UID:10000461-1854921600-1855007999@beta.dietetykxxiwieku.pl
SUMMARY:Newsletter dietetyczny
DESCRIPTION:Krótki opis wydarzenia. Jedno zdanie\, które nie będzie bardzo obszerne. Krótki opis wydarzenia. Jedno zdanie\, które nie będzie bardzo obszerne.
URL:https://beta.dietetykxxiwieku.pl/event/newsletter-dietetyczny-5/2028-10-12/
ATTACH;FMTTYPE=image/png:https://beta.dietetykxxiwieku.pl/wp-content/uploads/2025/05/Badania-mikrobioty-i-stosowanie-probiotykow-u-osob-zdrowych-podsumowanie-zalecen-i-wytycznych.png
END:VEVENT
BEGIN:VEVENT
DTSTART;VALUE=DATE:20281019
DTEND;VALUE=DATE:20281020
DTSTAMP:20260425T234204
CREATED:20250508T120308Z
LAST-MODIFIED:20250730T111749Z
UID:10000462-1855526400-1855612799@beta.dietetykxxiwieku.pl
SUMMARY:Newsletter dietetyczny
DESCRIPTION:Krótki opis wydarzenia. Jedno zdanie\, które nie będzie bardzo obszerne. Krótki opis wydarzenia. Jedno zdanie\, które nie będzie bardzo obszerne.
URL:https://beta.dietetykxxiwieku.pl/event/newsletter-dietetyczny-5/2028-10-19/
ATTACH;FMTTYPE=image/png:https://beta.dietetykxxiwieku.pl/wp-content/uploads/2025/05/Badania-mikrobioty-i-stosowanie-probiotykow-u-osob-zdrowych-podsumowanie-zalecen-i-wytycznych.png
END:VEVENT
BEGIN:VEVENT
DTSTART;VALUE=DATE:20281026
DTEND;VALUE=DATE:20281027
DTSTAMP:20260425T234204
CREATED:20250508T120308Z
LAST-MODIFIED:20250730T111749Z
UID:10000463-1856131200-1856217599@beta.dietetykxxiwieku.pl
SUMMARY:Newsletter dietetyczny
DESCRIPTION:Krótki opis wydarzenia. Jedno zdanie\, które nie będzie bardzo obszerne. Krótki opis wydarzenia. Jedno zdanie\, które nie będzie bardzo obszerne.
URL:https://beta.dietetykxxiwieku.pl/event/newsletter-dietetyczny-5/2028-10-26/
ATTACH;FMTTYPE=image/png:https://beta.dietetykxxiwieku.pl/wp-content/uploads/2025/05/Badania-mikrobioty-i-stosowanie-probiotykow-u-osob-zdrowych-podsumowanie-zalecen-i-wytycznych.png
END:VEVENT
BEGIN:VEVENT
DTSTART;VALUE=DATE:20281102
DTEND;VALUE=DATE:20281103
DTSTAMP:20260425T234204
CREATED:20250508T120308Z
LAST-MODIFIED:20250730T111749Z
UID:10000464-1856736000-1856822399@beta.dietetykxxiwieku.pl
SUMMARY:Newsletter dietetyczny
DESCRIPTION:Krótki opis wydarzenia. Jedno zdanie\, które nie będzie bardzo obszerne. Krótki opis wydarzenia. Jedno zdanie\, które nie będzie bardzo obszerne.
URL:https://beta.dietetykxxiwieku.pl/event/newsletter-dietetyczny-5/2028-11-02/
ATTACH;FMTTYPE=image/png:https://beta.dietetykxxiwieku.pl/wp-content/uploads/2025/05/Badania-mikrobioty-i-stosowanie-probiotykow-u-osob-zdrowych-podsumowanie-zalecen-i-wytycznych.png
END:VEVENT
BEGIN:VEVENT
DTSTART;VALUE=DATE:20281109
DTEND;VALUE=DATE:20281110
DTSTAMP:20260425T234204
CREATED:20250508T120308Z
LAST-MODIFIED:20250730T111749Z
UID:10000465-1857340800-1857427199@beta.dietetykxxiwieku.pl
SUMMARY:Newsletter dietetyczny
DESCRIPTION:Krótki opis wydarzenia. Jedno zdanie\, które nie będzie bardzo obszerne. Krótki opis wydarzenia. Jedno zdanie\, które nie będzie bardzo obszerne.
URL:https://beta.dietetykxxiwieku.pl/event/newsletter-dietetyczny-5/2028-11-09/
ATTACH;FMTTYPE=image/png:https://beta.dietetykxxiwieku.pl/wp-content/uploads/2025/05/Badania-mikrobioty-i-stosowanie-probiotykow-u-osob-zdrowych-podsumowanie-zalecen-i-wytycznych.png
END:VEVENT
BEGIN:VEVENT
DTSTART;VALUE=DATE:20281116
DTEND;VALUE=DATE:20281117
DTSTAMP:20260425T234204
CREATED:20250508T120308Z
LAST-MODIFIED:20250730T111749Z
UID:10000466-1857945600-1858031999@beta.dietetykxxiwieku.pl
SUMMARY:Newsletter dietetyczny
DESCRIPTION:Krótki opis wydarzenia. Jedno zdanie\, które nie będzie bardzo obszerne. Krótki opis wydarzenia. Jedno zdanie\, które nie będzie bardzo obszerne.
URL:https://beta.dietetykxxiwieku.pl/event/newsletter-dietetyczny-5/2028-11-16/
ATTACH;FMTTYPE=image/png:https://beta.dietetykxxiwieku.pl/wp-content/uploads/2025/05/Badania-mikrobioty-i-stosowanie-probiotykow-u-osob-zdrowych-podsumowanie-zalecen-i-wytycznych.png
END:VEVENT
BEGIN:VEVENT
DTSTART;VALUE=DATE:20281123
DTEND;VALUE=DATE:20281124
DTSTAMP:20260425T234204
CREATED:20250508T120308Z
LAST-MODIFIED:20250730T111749Z
UID:10000467-1858550400-1858636799@beta.dietetykxxiwieku.pl
SUMMARY:Newsletter dietetyczny
DESCRIPTION:Krótki opis wydarzenia. Jedno zdanie\, które nie będzie bardzo obszerne. Krótki opis wydarzenia. Jedno zdanie\, które nie będzie bardzo obszerne.
URL:https://beta.dietetykxxiwieku.pl/event/newsletter-dietetyczny-5/2028-11-23/
ATTACH;FMTTYPE=image/png:https://beta.dietetykxxiwieku.pl/wp-content/uploads/2025/05/Badania-mikrobioty-i-stosowanie-probiotykow-u-osob-zdrowych-podsumowanie-zalecen-i-wytycznych.png
END:VEVENT
BEGIN:VEVENT
DTSTART;VALUE=DATE:20281130
DTEND;VALUE=DATE:20281201
DTSTAMP:20260425T234204
CREATED:20250508T120308Z
LAST-MODIFIED:20250730T111749Z
UID:10000468-1859155200-1859241599@beta.dietetykxxiwieku.pl
SUMMARY:Newsletter dietetyczny
DESCRIPTION:Krótki opis wydarzenia. Jedno zdanie\, które nie będzie bardzo obszerne. Krótki opis wydarzenia. Jedno zdanie\, które nie będzie bardzo obszerne.
URL:https://beta.dietetykxxiwieku.pl/event/newsletter-dietetyczny-5/2028-11-30/
ATTACH;FMTTYPE=image/png:https://beta.dietetykxxiwieku.pl/wp-content/uploads/2025/05/Badania-mikrobioty-i-stosowanie-probiotykow-u-osob-zdrowych-podsumowanie-zalecen-i-wytycznych.png
END:VEVENT
BEGIN:VEVENT
DTSTART;VALUE=DATE:20281207
DTEND;VALUE=DATE:20281208
DTSTAMP:20260425T234204
CREATED:20250508T120308Z
LAST-MODIFIED:20250730T111749Z
UID:10000469-1859760000-1859846399@beta.dietetykxxiwieku.pl
SUMMARY:Newsletter dietetyczny
DESCRIPTION:Krótki opis wydarzenia. Jedno zdanie\, które nie będzie bardzo obszerne. Krótki opis wydarzenia. Jedno zdanie\, które nie będzie bardzo obszerne.
URL:https://beta.dietetykxxiwieku.pl/event/newsletter-dietetyczny-5/2028-12-07/
ATTACH;FMTTYPE=image/png:https://beta.dietetykxxiwieku.pl/wp-content/uploads/2025/05/Badania-mikrobioty-i-stosowanie-probiotykow-u-osob-zdrowych-podsumowanie-zalecen-i-wytycznych.png
END:VEVENT
BEGIN:VEVENT
DTSTART;VALUE=DATE:20281214
DTEND;VALUE=DATE:20281215
DTSTAMP:20260425T234204
CREATED:20250508T120308Z
LAST-MODIFIED:20250730T111749Z
UID:10000470-1860364800-1860451199@beta.dietetykxxiwieku.pl
SUMMARY:Newsletter dietetyczny
DESCRIPTION:Krótki opis wydarzenia. Jedno zdanie\, które nie będzie bardzo obszerne. Krótki opis wydarzenia. Jedno zdanie\, które nie będzie bardzo obszerne.
URL:https://beta.dietetykxxiwieku.pl/event/newsletter-dietetyczny-5/2028-12-14/
ATTACH;FMTTYPE=image/png:https://beta.dietetykxxiwieku.pl/wp-content/uploads/2025/05/Badania-mikrobioty-i-stosowanie-probiotykow-u-osob-zdrowych-podsumowanie-zalecen-i-wytycznych.png
END:VEVENT
BEGIN:VEVENT
DTSTART;VALUE=DATE:20281221
DTEND;VALUE=DATE:20281222
DTSTAMP:20260425T234204
CREATED:20250508T120308Z
LAST-MODIFIED:20250730T111749Z
UID:10000471-1860969600-1861055999@beta.dietetykxxiwieku.pl
SUMMARY:Newsletter dietetyczny
DESCRIPTION:Krótki opis wydarzenia. Jedno zdanie\, które nie będzie bardzo obszerne. Krótki opis wydarzenia. Jedno zdanie\, które nie będzie bardzo obszerne.
URL:https://beta.dietetykxxiwieku.pl/event/newsletter-dietetyczny-5/2028-12-21/
ATTACH;FMTTYPE=image/png:https://beta.dietetykxxiwieku.pl/wp-content/uploads/2025/05/Badania-mikrobioty-i-stosowanie-probiotykow-u-osob-zdrowych-podsumowanie-zalecen-i-wytycznych.png
END:VEVENT
BEGIN:VEVENT
DTSTART;VALUE=DATE:20281228
DTEND;VALUE=DATE:20281229
DTSTAMP:20260425T234204
CREATED:20250508T120308Z
LAST-MODIFIED:20250730T111749Z
UID:10000472-1861574400-1861660799@beta.dietetykxxiwieku.pl
SUMMARY:Newsletter dietetyczny
DESCRIPTION:Krótki opis wydarzenia. Jedno zdanie\, które nie będzie bardzo obszerne. Krótki opis wydarzenia. Jedno zdanie\, które nie będzie bardzo obszerne.
URL:https://beta.dietetykxxiwieku.pl/event/newsletter-dietetyczny-5/2028-12-28/
ATTACH;FMTTYPE=image/png:https://beta.dietetykxxiwieku.pl/wp-content/uploads/2025/05/Badania-mikrobioty-i-stosowanie-probiotykow-u-osob-zdrowych-podsumowanie-zalecen-i-wytycznych.png
END:VEVENT
BEGIN:VEVENT
DTSTART;VALUE=DATE:20290104
DTEND;VALUE=DATE:20290105
DTSTAMP:20260425T234204
CREATED:20250508T120308Z
LAST-MODIFIED:20250730T111749Z
UID:10000473-1862179200-1862265599@beta.dietetykxxiwieku.pl
SUMMARY:Newsletter dietetyczny
DESCRIPTION:Krótki opis wydarzenia. Jedno zdanie\, które nie będzie bardzo obszerne. Krótki opis wydarzenia. Jedno zdanie\, które nie będzie bardzo obszerne.
URL:https://beta.dietetykxxiwieku.pl/event/newsletter-dietetyczny-5/2029-01-04/
ATTACH;FMTTYPE=image/png:https://beta.dietetykxxiwieku.pl/wp-content/uploads/2025/05/Badania-mikrobioty-i-stosowanie-probiotykow-u-osob-zdrowych-podsumowanie-zalecen-i-wytycznych.png
END:VEVENT
BEGIN:VEVENT
DTSTART;VALUE=DATE:20290111
DTEND;VALUE=DATE:20290112
DTSTAMP:20260425T234204
CREATED:20250508T120308Z
LAST-MODIFIED:20250730T111749Z
UID:10000474-1862784000-1862870399@beta.dietetykxxiwieku.pl
SUMMARY:Newsletter dietetyczny
DESCRIPTION:Krótki opis wydarzenia. Jedno zdanie\, które nie będzie bardzo obszerne. Krótki opis wydarzenia. Jedno zdanie\, które nie będzie bardzo obszerne.
URL:https://beta.dietetykxxiwieku.pl/event/newsletter-dietetyczny-5/2029-01-11/
ATTACH;FMTTYPE=image/png:https://beta.dietetykxxiwieku.pl/wp-content/uploads/2025/05/Badania-mikrobioty-i-stosowanie-probiotykow-u-osob-zdrowych-podsumowanie-zalecen-i-wytycznych.png
END:VEVENT
BEGIN:VEVENT
DTSTART;VALUE=DATE:20290118
DTEND;VALUE=DATE:20290119
DTSTAMP:20260425T234204
CREATED:20250508T120308Z
LAST-MODIFIED:20250730T111749Z
UID:10000475-1863388800-1863475199@beta.dietetykxxiwieku.pl
SUMMARY:Newsletter dietetyczny
DESCRIPTION:Krótki opis wydarzenia. Jedno zdanie\, które nie będzie bardzo obszerne. Krótki opis wydarzenia. Jedno zdanie\, które nie będzie bardzo obszerne.
URL:https://beta.dietetykxxiwieku.pl/event/newsletter-dietetyczny-5/2029-01-18/
ATTACH;FMTTYPE=image/png:https://beta.dietetykxxiwieku.pl/wp-content/uploads/2025/05/Badania-mikrobioty-i-stosowanie-probiotykow-u-osob-zdrowych-podsumowanie-zalecen-i-wytycznych.png
END:VEVENT
BEGIN:VEVENT
DTSTART;VALUE=DATE:20290125
DTEND;VALUE=DATE:20290126
DTSTAMP:20260425T234204
CREATED:20250508T120308Z
LAST-MODIFIED:20250730T111749Z
UID:10000476-1863993600-1864079999@beta.dietetykxxiwieku.pl
SUMMARY:Newsletter dietetyczny
DESCRIPTION:Krótki opis wydarzenia. Jedno zdanie\, które nie będzie bardzo obszerne. Krótki opis wydarzenia. Jedno zdanie\, które nie będzie bardzo obszerne.
URL:https://beta.dietetykxxiwieku.pl/event/newsletter-dietetyczny-5/2029-01-25/
ATTACH;FMTTYPE=image/png:https://beta.dietetykxxiwieku.pl/wp-content/uploads/2025/05/Badania-mikrobioty-i-stosowanie-probiotykow-u-osob-zdrowych-podsumowanie-zalecen-i-wytycznych.png
END:VEVENT
BEGIN:VEVENT
DTSTART;VALUE=DATE:20290201
DTEND;VALUE=DATE:20290202
DTSTAMP:20260425T234204
CREATED:20250508T120308Z
LAST-MODIFIED:20250730T111749Z
UID:10000477-1864598400-1864684799@beta.dietetykxxiwieku.pl
SUMMARY:Newsletter dietetyczny
DESCRIPTION:Krótki opis wydarzenia. Jedno zdanie\, które nie będzie bardzo obszerne. Krótki opis wydarzenia. Jedno zdanie\, które nie będzie bardzo obszerne.
URL:https://beta.dietetykxxiwieku.pl/event/newsletter-dietetyczny-5/2029-02-01/
ATTACH;FMTTYPE=image/png:https://beta.dietetykxxiwieku.pl/wp-content/uploads/2025/05/Badania-mikrobioty-i-stosowanie-probiotykow-u-osob-zdrowych-podsumowanie-zalecen-i-wytycznych.png
END:VEVENT
BEGIN:VEVENT
DTSTART;VALUE=DATE:20290208
DTEND;VALUE=DATE:20290209
DTSTAMP:20260425T234204
CREATED:20250508T120308Z
LAST-MODIFIED:20250730T111749Z
UID:10000478-1865203200-1865289599@beta.dietetykxxiwieku.pl
SUMMARY:Newsletter dietetyczny
DESCRIPTION:Krótki opis wydarzenia. Jedno zdanie\, które nie będzie bardzo obszerne. Krótki opis wydarzenia. Jedno zdanie\, które nie będzie bardzo obszerne.
URL:https://beta.dietetykxxiwieku.pl/event/newsletter-dietetyczny-5/2029-02-08/
ATTACH;FMTTYPE=image/png:https://beta.dietetykxxiwieku.pl/wp-content/uploads/2025/05/Badania-mikrobioty-i-stosowanie-probiotykow-u-osob-zdrowych-podsumowanie-zalecen-i-wytycznych.png
END:VEVENT
BEGIN:VEVENT
DTSTART;VALUE=DATE:20290215
DTEND;VALUE=DATE:20290216
DTSTAMP:20260425T234204
CREATED:20250508T120308Z
LAST-MODIFIED:20250730T111749Z
UID:10000479-1865808000-1865894399@beta.dietetykxxiwieku.pl
SUMMARY:Newsletter dietetyczny
DESCRIPTION:Krótki opis wydarzenia. Jedno zdanie\, które nie będzie bardzo obszerne. Krótki opis wydarzenia. Jedno zdanie\, które nie będzie bardzo obszerne.
URL:https://beta.dietetykxxiwieku.pl/event/newsletter-dietetyczny-5/2029-02-15/
ATTACH;FMTTYPE=image/png:https://beta.dietetykxxiwieku.pl/wp-content/uploads/2025/05/Badania-mikrobioty-i-stosowanie-probiotykow-u-osob-zdrowych-podsumowanie-zalecen-i-wytycznych.png
END:VEVENT
BEGIN:VEVENT
DTSTART;VALUE=DATE:20290222
DTEND;VALUE=DATE:20290223
DTSTAMP:20260425T234204
CREATED:20250508T120308Z
LAST-MODIFIED:20250730T111749Z
UID:10000480-1866412800-1866499199@beta.dietetykxxiwieku.pl
SUMMARY:Newsletter dietetyczny
DESCRIPTION:Krótki opis wydarzenia. Jedno zdanie\, które nie będzie bardzo obszerne. Krótki opis wydarzenia. Jedno zdanie\, które nie będzie bardzo obszerne.
URL:https://beta.dietetykxxiwieku.pl/event/newsletter-dietetyczny-5/2029-02-22/
ATTACH;FMTTYPE=image/png:https://beta.dietetykxxiwieku.pl/wp-content/uploads/2025/05/Badania-mikrobioty-i-stosowanie-probiotykow-u-osob-zdrowych-podsumowanie-zalecen-i-wytycznych.png
END:VEVENT
BEGIN:VEVENT
DTSTART;VALUE=DATE:20290301
DTEND;VALUE=DATE:20290302
DTSTAMP:20260425T234204
CREATED:20250508T120308Z
LAST-MODIFIED:20250730T111749Z
UID:10000481-1867017600-1867103999@beta.dietetykxxiwieku.pl
SUMMARY:Newsletter dietetyczny
DESCRIPTION:Krótki opis wydarzenia. Jedno zdanie\, które nie będzie bardzo obszerne. Krótki opis wydarzenia. Jedno zdanie\, które nie będzie bardzo obszerne.
URL:https://beta.dietetykxxiwieku.pl/event/newsletter-dietetyczny-5/2029-03-01/
ATTACH;FMTTYPE=image/png:https://beta.dietetykxxiwieku.pl/wp-content/uploads/2025/05/Badania-mikrobioty-i-stosowanie-probiotykow-u-osob-zdrowych-podsumowanie-zalecen-i-wytycznych.png
END:VEVENT
BEGIN:VEVENT
DTSTART;VALUE=DATE:20290308
DTEND;VALUE=DATE:20290309
DTSTAMP:20260425T234204
CREATED:20250508T120308Z
LAST-MODIFIED:20250730T111749Z
UID:10000482-1867622400-1867708799@beta.dietetykxxiwieku.pl
SUMMARY:Newsletter dietetyczny
DESCRIPTION:Krótki opis wydarzenia. Jedno zdanie\, które nie będzie bardzo obszerne. Krótki opis wydarzenia. Jedno zdanie\, które nie będzie bardzo obszerne.
URL:https://beta.dietetykxxiwieku.pl/event/newsletter-dietetyczny-5/2029-03-08/
ATTACH;FMTTYPE=image/png:https://beta.dietetykxxiwieku.pl/wp-content/uploads/2025/05/Badania-mikrobioty-i-stosowanie-probiotykow-u-osob-zdrowych-podsumowanie-zalecen-i-wytycznych.png
END:VEVENT
BEGIN:VEVENT
DTSTART;VALUE=DATE:20290315
DTEND;VALUE=DATE:20290316
DTSTAMP:20260425T234204
CREATED:20250508T120308Z
LAST-MODIFIED:20250730T111749Z
UID:10000483-1868227200-1868313599@beta.dietetykxxiwieku.pl
SUMMARY:Newsletter dietetyczny
DESCRIPTION:Krótki opis wydarzenia. Jedno zdanie\, które nie będzie bardzo obszerne. Krótki opis wydarzenia. Jedno zdanie\, które nie będzie bardzo obszerne.
URL:https://beta.dietetykxxiwieku.pl/event/newsletter-dietetyczny-5/2029-03-15/
ATTACH;FMTTYPE=image/png:https://beta.dietetykxxiwieku.pl/wp-content/uploads/2025/05/Badania-mikrobioty-i-stosowanie-probiotykow-u-osob-zdrowych-podsumowanie-zalecen-i-wytycznych.png
END:VEVENT
BEGIN:VEVENT
DTSTART;VALUE=DATE:20290322
DTEND;VALUE=DATE:20290323
DTSTAMP:20260425T234204
CREATED:20250508T120308Z
LAST-MODIFIED:20250730T111749Z
UID:10000484-1868832000-1868918399@beta.dietetykxxiwieku.pl
SUMMARY:Newsletter dietetyczny
DESCRIPTION:Krótki opis wydarzenia. Jedno zdanie\, które nie będzie bardzo obszerne. Krótki opis wydarzenia. Jedno zdanie\, które nie będzie bardzo obszerne.
URL:https://beta.dietetykxxiwieku.pl/event/newsletter-dietetyczny-5/2029-03-22/
ATTACH;FMTTYPE=image/png:https://beta.dietetykxxiwieku.pl/wp-content/uploads/2025/05/Badania-mikrobioty-i-stosowanie-probiotykow-u-osob-zdrowych-podsumowanie-zalecen-i-wytycznych.png
END:VEVENT
BEGIN:VEVENT
DTSTART;VALUE=DATE:20290329
DTEND;VALUE=DATE:20290330
DTSTAMP:20260425T234204
CREATED:20250508T120308Z
LAST-MODIFIED:20250730T111749Z
UID:10000485-1869436800-1869523199@beta.dietetykxxiwieku.pl
SUMMARY:Newsletter dietetyczny
DESCRIPTION:Krótki opis wydarzenia. Jedno zdanie\, które nie będzie bardzo obszerne. Krótki opis wydarzenia. Jedno zdanie\, które nie będzie bardzo obszerne.
URL:https://beta.dietetykxxiwieku.pl/event/newsletter-dietetyczny-5/2029-03-29/
ATTACH;FMTTYPE=image/png:https://beta.dietetykxxiwieku.pl/wp-content/uploads/2025/05/Badania-mikrobioty-i-stosowanie-probiotykow-u-osob-zdrowych-podsumowanie-zalecen-i-wytycznych.png
END:VEVENT
BEGIN:VEVENT
DTSTART;VALUE=DATE:20290405
DTEND;VALUE=DATE:20290406
DTSTAMP:20260425T234204
CREATED:20250508T120308Z
LAST-MODIFIED:20250730T111749Z
UID:10000486-1870041600-1870127999@beta.dietetykxxiwieku.pl
SUMMARY:Newsletter dietetyczny
DESCRIPTION:Krótki opis wydarzenia. Jedno zdanie\, które nie będzie bardzo obszerne. Krótki opis wydarzenia. Jedno zdanie\, które nie będzie bardzo obszerne.
URL:https://beta.dietetykxxiwieku.pl/event/newsletter-dietetyczny-5/2029-04-05/
ATTACH;FMTTYPE=image/png:https://beta.dietetykxxiwieku.pl/wp-content/uploads/2025/05/Badania-mikrobioty-i-stosowanie-probiotykow-u-osob-zdrowych-podsumowanie-zalecen-i-wytycznych.png
END:VEVENT
BEGIN:VEVENT
DTSTART;VALUE=DATE:20290412
DTEND;VALUE=DATE:20290413
DTSTAMP:20260425T234204
CREATED:20250508T120308Z
LAST-MODIFIED:20250730T111749Z
UID:10000487-1870646400-1870732799@beta.dietetykxxiwieku.pl
SUMMARY:Newsletter dietetyczny
DESCRIPTION:Krótki opis wydarzenia. Jedno zdanie\, które nie będzie bardzo obszerne. Krótki opis wydarzenia. Jedno zdanie\, które nie będzie bardzo obszerne.
URL:https://beta.dietetykxxiwieku.pl/event/newsletter-dietetyczny-5/2029-04-12/
ATTACH;FMTTYPE=image/png:https://beta.dietetykxxiwieku.pl/wp-content/uploads/2025/05/Badania-mikrobioty-i-stosowanie-probiotykow-u-osob-zdrowych-podsumowanie-zalecen-i-wytycznych.png
END:VEVENT
END:VCALENDAR