BEGIN:VCALENDAR
VERSION:2.0
PRODID:-//Dietetyk XXI Wieku - ECPv6.15.12.2//NONSGML v1.0//EN
CALSCALE:GREGORIAN
METHOD:PUBLISH
X-ORIGINAL-URL:https://beta.dietetykxxiwieku.pl
X-WR-CALDESC:Wydarzenia dla Dietetyk XXI Wieku
REFRESH-INTERVAL;VALUE=DURATION:PT1H
X-Robots-Tag:noindex
X-PUBLISHED-TTL:PT1H
BEGIN:VTIMEZONE
TZID:Europe/Warsaw
BEGIN:DAYLIGHT
TZOFFSETFROM:+0100
TZOFFSETTO:+0200
TZNAME:CEST
DTSTART:20260329T010000
END:DAYLIGHT
BEGIN:STANDARD
TZOFFSETFROM:+0200
TZOFFSETTO:+0100
TZNAME:CET
DTSTART:20261025T010000
END:STANDARD
BEGIN:DAYLIGHT
TZOFFSETFROM:+0100
TZOFFSETTO:+0200
TZNAME:CEST
DTSTART:20270328T010000
END:DAYLIGHT
BEGIN:STANDARD
TZOFFSETFROM:+0200
TZOFFSETTO:+0100
TZNAME:CET
DTSTART:20271031T010000
END:STANDARD
BEGIN:DAYLIGHT
TZOFFSETFROM:+0100
TZOFFSETTO:+0200
TZNAME:CEST
DTSTART:20280326T010000
END:DAYLIGHT
BEGIN:STANDARD
TZOFFSETFROM:+0200
TZOFFSETTO:+0100
TZNAME:CET
DTSTART:20281029T010000
END:STANDARD
BEGIN:DAYLIGHT
TZOFFSETFROM:+0100
TZOFFSETTO:+0200
TZNAME:CEST
DTSTART:20290325T010000
END:DAYLIGHT
BEGIN:STANDARD
TZOFFSETFROM:+0200
TZOFFSETTO:+0100
TZNAME:CET
DTSTART:20291028T010000
END:STANDARD
END:VTIMEZONE
BEGIN:VEVENT
DTSTART;VALUE=DATE:20270722
DTEND;VALUE=DATE:20270723
DTSTAMP:20260421T075807
CREATED:20250508T120308Z
LAST-MODIFIED:20250730T111749Z
UID:10000397-1816214400-1816300799@beta.dietetykxxiwieku.pl
SUMMARY:Newsletter dietetyczny
DESCRIPTION:Krótki opis wydarzenia. Jedno zdanie\, które nie będzie bardzo obszerne. Krótki opis wydarzenia. Jedno zdanie\, które nie będzie bardzo obszerne.
URL:https://beta.dietetykxxiwieku.pl/event/newsletter-dietetyczny-5/2027-07-22/
ATTACH;FMTTYPE=image/png:https://beta.dietetykxxiwieku.pl/wp-content/uploads/2025/05/Badania-mikrobioty-i-stosowanie-probiotykow-u-osob-zdrowych-podsumowanie-zalecen-i-wytycznych.png
END:VEVENT
BEGIN:VEVENT
DTSTART;VALUE=DATE:20270729
DTEND;VALUE=DATE:20270730
DTSTAMP:20260421T075807
CREATED:20250508T120308Z
LAST-MODIFIED:20250730T111749Z
UID:10000398-1816819200-1816905599@beta.dietetykxxiwieku.pl
SUMMARY:Newsletter dietetyczny
DESCRIPTION:Krótki opis wydarzenia. Jedno zdanie\, które nie będzie bardzo obszerne. Krótki opis wydarzenia. Jedno zdanie\, które nie będzie bardzo obszerne.
URL:https://beta.dietetykxxiwieku.pl/event/newsletter-dietetyczny-5/2027-07-29/
ATTACH;FMTTYPE=image/png:https://beta.dietetykxxiwieku.pl/wp-content/uploads/2025/05/Badania-mikrobioty-i-stosowanie-probiotykow-u-osob-zdrowych-podsumowanie-zalecen-i-wytycznych.png
END:VEVENT
BEGIN:VEVENT
DTSTART;VALUE=DATE:20270805
DTEND;VALUE=DATE:20270806
DTSTAMP:20260421T075807
CREATED:20250508T120308Z
LAST-MODIFIED:20250730T111749Z
UID:10000399-1817424000-1817510399@beta.dietetykxxiwieku.pl
SUMMARY:Newsletter dietetyczny
DESCRIPTION:Krótki opis wydarzenia. Jedno zdanie\, które nie będzie bardzo obszerne. Krótki opis wydarzenia. Jedno zdanie\, które nie będzie bardzo obszerne.
URL:https://beta.dietetykxxiwieku.pl/event/newsletter-dietetyczny-5/2027-08-05/
ATTACH;FMTTYPE=image/png:https://beta.dietetykxxiwieku.pl/wp-content/uploads/2025/05/Badania-mikrobioty-i-stosowanie-probiotykow-u-osob-zdrowych-podsumowanie-zalecen-i-wytycznych.png
END:VEVENT
BEGIN:VEVENT
DTSTART;VALUE=DATE:20270812
DTEND;VALUE=DATE:20270813
DTSTAMP:20260421T075807
CREATED:20250508T120308Z
LAST-MODIFIED:20250730T111749Z
UID:10000400-1818028800-1818115199@beta.dietetykxxiwieku.pl
SUMMARY:Newsletter dietetyczny
DESCRIPTION:Krótki opis wydarzenia. Jedno zdanie\, które nie będzie bardzo obszerne. Krótki opis wydarzenia. Jedno zdanie\, które nie będzie bardzo obszerne.
URL:https://beta.dietetykxxiwieku.pl/event/newsletter-dietetyczny-5/2027-08-12/
ATTACH;FMTTYPE=image/png:https://beta.dietetykxxiwieku.pl/wp-content/uploads/2025/05/Badania-mikrobioty-i-stosowanie-probiotykow-u-osob-zdrowych-podsumowanie-zalecen-i-wytycznych.png
END:VEVENT
BEGIN:VEVENT
DTSTART;VALUE=DATE:20270819
DTEND;VALUE=DATE:20270820
DTSTAMP:20260421T075807
CREATED:20250508T120308Z
LAST-MODIFIED:20250730T111749Z
UID:10000401-1818633600-1818719999@beta.dietetykxxiwieku.pl
SUMMARY:Newsletter dietetyczny
DESCRIPTION:Krótki opis wydarzenia. Jedno zdanie\, które nie będzie bardzo obszerne. Krótki opis wydarzenia. Jedno zdanie\, które nie będzie bardzo obszerne.
URL:https://beta.dietetykxxiwieku.pl/event/newsletter-dietetyczny-5/2027-08-19/
ATTACH;FMTTYPE=image/png:https://beta.dietetykxxiwieku.pl/wp-content/uploads/2025/05/Badania-mikrobioty-i-stosowanie-probiotykow-u-osob-zdrowych-podsumowanie-zalecen-i-wytycznych.png
END:VEVENT
BEGIN:VEVENT
DTSTART;VALUE=DATE:20270826
DTEND;VALUE=DATE:20270827
DTSTAMP:20260421T075807
CREATED:20250508T120308Z
LAST-MODIFIED:20250730T111749Z
UID:10000402-1819238400-1819324799@beta.dietetykxxiwieku.pl
SUMMARY:Newsletter dietetyczny
DESCRIPTION:Krótki opis wydarzenia. Jedno zdanie\, które nie będzie bardzo obszerne. Krótki opis wydarzenia. Jedno zdanie\, które nie będzie bardzo obszerne.
URL:https://beta.dietetykxxiwieku.pl/event/newsletter-dietetyczny-5/2027-08-26/
ATTACH;FMTTYPE=image/png:https://beta.dietetykxxiwieku.pl/wp-content/uploads/2025/05/Badania-mikrobioty-i-stosowanie-probiotykow-u-osob-zdrowych-podsumowanie-zalecen-i-wytycznych.png
END:VEVENT
BEGIN:VEVENT
DTSTART;VALUE=DATE:20270902
DTEND;VALUE=DATE:20270903
DTSTAMP:20260421T075807
CREATED:20250508T120308Z
LAST-MODIFIED:20250730T111749Z
UID:10000403-1819843200-1819929599@beta.dietetykxxiwieku.pl
SUMMARY:Newsletter dietetyczny
DESCRIPTION:Krótki opis wydarzenia. Jedno zdanie\, które nie będzie bardzo obszerne. Krótki opis wydarzenia. Jedno zdanie\, które nie będzie bardzo obszerne.
URL:https://beta.dietetykxxiwieku.pl/event/newsletter-dietetyczny-5/2027-09-02/
ATTACH;FMTTYPE=image/png:https://beta.dietetykxxiwieku.pl/wp-content/uploads/2025/05/Badania-mikrobioty-i-stosowanie-probiotykow-u-osob-zdrowych-podsumowanie-zalecen-i-wytycznych.png
END:VEVENT
BEGIN:VEVENT
DTSTART;VALUE=DATE:20270909
DTEND;VALUE=DATE:20270910
DTSTAMP:20260421T075807
CREATED:20250508T120308Z
LAST-MODIFIED:20250730T111749Z
UID:10000404-1820448000-1820534399@beta.dietetykxxiwieku.pl
SUMMARY:Newsletter dietetyczny
DESCRIPTION:Krótki opis wydarzenia. Jedno zdanie\, które nie będzie bardzo obszerne. Krótki opis wydarzenia. Jedno zdanie\, które nie będzie bardzo obszerne.
URL:https://beta.dietetykxxiwieku.pl/event/newsletter-dietetyczny-5/2027-09-09/
ATTACH;FMTTYPE=image/png:https://beta.dietetykxxiwieku.pl/wp-content/uploads/2025/05/Badania-mikrobioty-i-stosowanie-probiotykow-u-osob-zdrowych-podsumowanie-zalecen-i-wytycznych.png
END:VEVENT
BEGIN:VEVENT
DTSTART;VALUE=DATE:20270916
DTEND;VALUE=DATE:20270917
DTSTAMP:20260421T075807
CREATED:20250508T120308Z
LAST-MODIFIED:20250730T111749Z
UID:10000405-1821052800-1821139199@beta.dietetykxxiwieku.pl
SUMMARY:Newsletter dietetyczny
DESCRIPTION:Krótki opis wydarzenia. Jedno zdanie\, które nie będzie bardzo obszerne. Krótki opis wydarzenia. Jedno zdanie\, które nie będzie bardzo obszerne.
URL:https://beta.dietetykxxiwieku.pl/event/newsletter-dietetyczny-5/2027-09-16/
ATTACH;FMTTYPE=image/png:https://beta.dietetykxxiwieku.pl/wp-content/uploads/2025/05/Badania-mikrobioty-i-stosowanie-probiotykow-u-osob-zdrowych-podsumowanie-zalecen-i-wytycznych.png
END:VEVENT
BEGIN:VEVENT
DTSTART;VALUE=DATE:20270923
DTEND;VALUE=DATE:20270924
DTSTAMP:20260421T075807
CREATED:20250508T120308Z
LAST-MODIFIED:20250730T111749Z
UID:10000406-1821657600-1821743999@beta.dietetykxxiwieku.pl
SUMMARY:Newsletter dietetyczny
DESCRIPTION:Krótki opis wydarzenia. Jedno zdanie\, które nie będzie bardzo obszerne. Krótki opis wydarzenia. Jedno zdanie\, które nie będzie bardzo obszerne.
URL:https://beta.dietetykxxiwieku.pl/event/newsletter-dietetyczny-5/2027-09-23/
ATTACH;FMTTYPE=image/png:https://beta.dietetykxxiwieku.pl/wp-content/uploads/2025/05/Badania-mikrobioty-i-stosowanie-probiotykow-u-osob-zdrowych-podsumowanie-zalecen-i-wytycznych.png
END:VEVENT
BEGIN:VEVENT
DTSTART;VALUE=DATE:20270930
DTEND;VALUE=DATE:20271001
DTSTAMP:20260421T075807
CREATED:20250508T120308Z
LAST-MODIFIED:20250730T111749Z
UID:10000407-1822262400-1822348799@beta.dietetykxxiwieku.pl
SUMMARY:Newsletter dietetyczny
DESCRIPTION:Krótki opis wydarzenia. Jedno zdanie\, które nie będzie bardzo obszerne. Krótki opis wydarzenia. Jedno zdanie\, które nie będzie bardzo obszerne.
URL:https://beta.dietetykxxiwieku.pl/event/newsletter-dietetyczny-5/2027-09-30/
ATTACH;FMTTYPE=image/png:https://beta.dietetykxxiwieku.pl/wp-content/uploads/2025/05/Badania-mikrobioty-i-stosowanie-probiotykow-u-osob-zdrowych-podsumowanie-zalecen-i-wytycznych.png
END:VEVENT
BEGIN:VEVENT
DTSTART;VALUE=DATE:20271007
DTEND;VALUE=DATE:20271008
DTSTAMP:20260421T075807
CREATED:20250508T120308Z
LAST-MODIFIED:20250730T111749Z
UID:10000408-1822867200-1822953599@beta.dietetykxxiwieku.pl
SUMMARY:Newsletter dietetyczny
DESCRIPTION:Krótki opis wydarzenia. Jedno zdanie\, które nie będzie bardzo obszerne. Krótki opis wydarzenia. Jedno zdanie\, które nie będzie bardzo obszerne.
URL:https://beta.dietetykxxiwieku.pl/event/newsletter-dietetyczny-5/2027-10-07/
ATTACH;FMTTYPE=image/png:https://beta.dietetykxxiwieku.pl/wp-content/uploads/2025/05/Badania-mikrobioty-i-stosowanie-probiotykow-u-osob-zdrowych-podsumowanie-zalecen-i-wytycznych.png
END:VEVENT
BEGIN:VEVENT
DTSTART;VALUE=DATE:20271014
DTEND;VALUE=DATE:20271015
DTSTAMP:20260421T075807
CREATED:20250508T120308Z
LAST-MODIFIED:20250730T111749Z
UID:10000409-1823472000-1823558399@beta.dietetykxxiwieku.pl
SUMMARY:Newsletter dietetyczny
DESCRIPTION:Krótki opis wydarzenia. Jedno zdanie\, które nie będzie bardzo obszerne. Krótki opis wydarzenia. Jedno zdanie\, które nie będzie bardzo obszerne.
URL:https://beta.dietetykxxiwieku.pl/event/newsletter-dietetyczny-5/2027-10-14/
ATTACH;FMTTYPE=image/png:https://beta.dietetykxxiwieku.pl/wp-content/uploads/2025/05/Badania-mikrobioty-i-stosowanie-probiotykow-u-osob-zdrowych-podsumowanie-zalecen-i-wytycznych.png
END:VEVENT
BEGIN:VEVENT
DTSTART;VALUE=DATE:20271021
DTEND;VALUE=DATE:20271022
DTSTAMP:20260421T075807
CREATED:20250508T120308Z
LAST-MODIFIED:20250730T111749Z
UID:10000410-1824076800-1824163199@beta.dietetykxxiwieku.pl
SUMMARY:Newsletter dietetyczny
DESCRIPTION:Krótki opis wydarzenia. Jedno zdanie\, które nie będzie bardzo obszerne. Krótki opis wydarzenia. Jedno zdanie\, które nie będzie bardzo obszerne.
URL:https://beta.dietetykxxiwieku.pl/event/newsletter-dietetyczny-5/2027-10-21/
ATTACH;FMTTYPE=image/png:https://beta.dietetykxxiwieku.pl/wp-content/uploads/2025/05/Badania-mikrobioty-i-stosowanie-probiotykow-u-osob-zdrowych-podsumowanie-zalecen-i-wytycznych.png
END:VEVENT
BEGIN:VEVENT
DTSTART;VALUE=DATE:20271028
DTEND;VALUE=DATE:20271029
DTSTAMP:20260421T075807
CREATED:20250508T120308Z
LAST-MODIFIED:20250730T111749Z
UID:10000411-1824681600-1824767999@beta.dietetykxxiwieku.pl
SUMMARY:Newsletter dietetyczny
DESCRIPTION:Krótki opis wydarzenia. Jedno zdanie\, które nie będzie bardzo obszerne. Krótki opis wydarzenia. Jedno zdanie\, które nie będzie bardzo obszerne.
URL:https://beta.dietetykxxiwieku.pl/event/newsletter-dietetyczny-5/2027-10-28/
ATTACH;FMTTYPE=image/png:https://beta.dietetykxxiwieku.pl/wp-content/uploads/2025/05/Badania-mikrobioty-i-stosowanie-probiotykow-u-osob-zdrowych-podsumowanie-zalecen-i-wytycznych.png
END:VEVENT
BEGIN:VEVENT
DTSTART;VALUE=DATE:20271104
DTEND;VALUE=DATE:20271105
DTSTAMP:20260421T075807
CREATED:20250508T120308Z
LAST-MODIFIED:20250730T111749Z
UID:10000412-1825286400-1825372799@beta.dietetykxxiwieku.pl
SUMMARY:Newsletter dietetyczny
DESCRIPTION:Krótki opis wydarzenia. Jedno zdanie\, które nie będzie bardzo obszerne. Krótki opis wydarzenia. Jedno zdanie\, które nie będzie bardzo obszerne.
URL:https://beta.dietetykxxiwieku.pl/event/newsletter-dietetyczny-5/2027-11-04/
ATTACH;FMTTYPE=image/png:https://beta.dietetykxxiwieku.pl/wp-content/uploads/2025/05/Badania-mikrobioty-i-stosowanie-probiotykow-u-osob-zdrowych-podsumowanie-zalecen-i-wytycznych.png
END:VEVENT
BEGIN:VEVENT
DTSTART;VALUE=DATE:20271111
DTEND;VALUE=DATE:20271112
DTSTAMP:20260421T075807
CREATED:20250508T120308Z
LAST-MODIFIED:20250730T111749Z
UID:10000413-1825891200-1825977599@beta.dietetykxxiwieku.pl
SUMMARY:Newsletter dietetyczny
DESCRIPTION:Krótki opis wydarzenia. Jedno zdanie\, które nie będzie bardzo obszerne. Krótki opis wydarzenia. Jedno zdanie\, które nie będzie bardzo obszerne.
URL:https://beta.dietetykxxiwieku.pl/event/newsletter-dietetyczny-5/2027-11-11/
ATTACH;FMTTYPE=image/png:https://beta.dietetykxxiwieku.pl/wp-content/uploads/2025/05/Badania-mikrobioty-i-stosowanie-probiotykow-u-osob-zdrowych-podsumowanie-zalecen-i-wytycznych.png
END:VEVENT
BEGIN:VEVENT
DTSTART;VALUE=DATE:20271118
DTEND;VALUE=DATE:20271119
DTSTAMP:20260421T075807
CREATED:20250508T120308Z
LAST-MODIFIED:20250730T111749Z
UID:10000414-1826496000-1826582399@beta.dietetykxxiwieku.pl
SUMMARY:Newsletter dietetyczny
DESCRIPTION:Krótki opis wydarzenia. Jedno zdanie\, które nie będzie bardzo obszerne. Krótki opis wydarzenia. Jedno zdanie\, które nie będzie bardzo obszerne.
URL:https://beta.dietetykxxiwieku.pl/event/newsletter-dietetyczny-5/2027-11-18/
ATTACH;FMTTYPE=image/png:https://beta.dietetykxxiwieku.pl/wp-content/uploads/2025/05/Badania-mikrobioty-i-stosowanie-probiotykow-u-osob-zdrowych-podsumowanie-zalecen-i-wytycznych.png
END:VEVENT
BEGIN:VEVENT
DTSTART;VALUE=DATE:20271125
DTEND;VALUE=DATE:20271126
DTSTAMP:20260421T075807
CREATED:20250508T120308Z
LAST-MODIFIED:20250730T111749Z
UID:10000415-1827100800-1827187199@beta.dietetykxxiwieku.pl
SUMMARY:Newsletter dietetyczny
DESCRIPTION:Krótki opis wydarzenia. Jedno zdanie\, które nie będzie bardzo obszerne. Krótki opis wydarzenia. Jedno zdanie\, które nie będzie bardzo obszerne.
URL:https://beta.dietetykxxiwieku.pl/event/newsletter-dietetyczny-5/2027-11-25/
ATTACH;FMTTYPE=image/png:https://beta.dietetykxxiwieku.pl/wp-content/uploads/2025/05/Badania-mikrobioty-i-stosowanie-probiotykow-u-osob-zdrowych-podsumowanie-zalecen-i-wytycznych.png
END:VEVENT
BEGIN:VEVENT
DTSTART;VALUE=DATE:20271202
DTEND;VALUE=DATE:20271203
DTSTAMP:20260421T075807
CREATED:20250508T120308Z
LAST-MODIFIED:20250730T111749Z
UID:10000416-1827705600-1827791999@beta.dietetykxxiwieku.pl
SUMMARY:Newsletter dietetyczny
DESCRIPTION:Krótki opis wydarzenia. Jedno zdanie\, które nie będzie bardzo obszerne. Krótki opis wydarzenia. Jedno zdanie\, które nie będzie bardzo obszerne.
URL:https://beta.dietetykxxiwieku.pl/event/newsletter-dietetyczny-5/2027-12-02/
ATTACH;FMTTYPE=image/png:https://beta.dietetykxxiwieku.pl/wp-content/uploads/2025/05/Badania-mikrobioty-i-stosowanie-probiotykow-u-osob-zdrowych-podsumowanie-zalecen-i-wytycznych.png
END:VEVENT
BEGIN:VEVENT
DTSTART;VALUE=DATE:20271209
DTEND;VALUE=DATE:20271210
DTSTAMP:20260421T075807
CREATED:20250508T120308Z
LAST-MODIFIED:20250730T111749Z
UID:10000417-1828310400-1828396799@beta.dietetykxxiwieku.pl
SUMMARY:Newsletter dietetyczny
DESCRIPTION:Krótki opis wydarzenia. Jedno zdanie\, które nie będzie bardzo obszerne. Krótki opis wydarzenia. Jedno zdanie\, które nie będzie bardzo obszerne.
URL:https://beta.dietetykxxiwieku.pl/event/newsletter-dietetyczny-5/2027-12-09/
ATTACH;FMTTYPE=image/png:https://beta.dietetykxxiwieku.pl/wp-content/uploads/2025/05/Badania-mikrobioty-i-stosowanie-probiotykow-u-osob-zdrowych-podsumowanie-zalecen-i-wytycznych.png
END:VEVENT
BEGIN:VEVENT
DTSTART;VALUE=DATE:20271216
DTEND;VALUE=DATE:20271217
DTSTAMP:20260421T075807
CREATED:20250508T120308Z
LAST-MODIFIED:20250730T111749Z
UID:10000418-1828915200-1829001599@beta.dietetykxxiwieku.pl
SUMMARY:Newsletter dietetyczny
DESCRIPTION:Krótki opis wydarzenia. Jedno zdanie\, które nie będzie bardzo obszerne. Krótki opis wydarzenia. Jedno zdanie\, które nie będzie bardzo obszerne.
URL:https://beta.dietetykxxiwieku.pl/event/newsletter-dietetyczny-5/2027-12-16/
ATTACH;FMTTYPE=image/png:https://beta.dietetykxxiwieku.pl/wp-content/uploads/2025/05/Badania-mikrobioty-i-stosowanie-probiotykow-u-osob-zdrowych-podsumowanie-zalecen-i-wytycznych.png
END:VEVENT
BEGIN:VEVENT
DTSTART;VALUE=DATE:20271223
DTEND;VALUE=DATE:20271224
DTSTAMP:20260421T075807
CREATED:20250508T120308Z
LAST-MODIFIED:20250730T111749Z
UID:10000419-1829520000-1829606399@beta.dietetykxxiwieku.pl
SUMMARY:Newsletter dietetyczny
DESCRIPTION:Krótki opis wydarzenia. Jedno zdanie\, które nie będzie bardzo obszerne. Krótki opis wydarzenia. Jedno zdanie\, które nie będzie bardzo obszerne.
URL:https://beta.dietetykxxiwieku.pl/event/newsletter-dietetyczny-5/2027-12-23/
ATTACH;FMTTYPE=image/png:https://beta.dietetykxxiwieku.pl/wp-content/uploads/2025/05/Badania-mikrobioty-i-stosowanie-probiotykow-u-osob-zdrowych-podsumowanie-zalecen-i-wytycznych.png
END:VEVENT
BEGIN:VEVENT
DTSTART;VALUE=DATE:20271230
DTEND;VALUE=DATE:20271231
DTSTAMP:20260421T075807
CREATED:20250508T120308Z
LAST-MODIFIED:20250730T111749Z
UID:10000420-1830124800-1830211199@beta.dietetykxxiwieku.pl
SUMMARY:Newsletter dietetyczny
DESCRIPTION:Krótki opis wydarzenia. Jedno zdanie\, które nie będzie bardzo obszerne. Krótki opis wydarzenia. Jedno zdanie\, które nie będzie bardzo obszerne.
URL:https://beta.dietetykxxiwieku.pl/event/newsletter-dietetyczny-5/2027-12-30/
ATTACH;FMTTYPE=image/png:https://beta.dietetykxxiwieku.pl/wp-content/uploads/2025/05/Badania-mikrobioty-i-stosowanie-probiotykow-u-osob-zdrowych-podsumowanie-zalecen-i-wytycznych.png
END:VEVENT
BEGIN:VEVENT
DTSTART;VALUE=DATE:20280106
DTEND;VALUE=DATE:20280107
DTSTAMP:20260421T075807
CREATED:20250508T120308Z
LAST-MODIFIED:20250730T111749Z
UID:10000421-1830729600-1830815999@beta.dietetykxxiwieku.pl
SUMMARY:Newsletter dietetyczny
DESCRIPTION:Krótki opis wydarzenia. Jedno zdanie\, które nie będzie bardzo obszerne. Krótki opis wydarzenia. Jedno zdanie\, które nie będzie bardzo obszerne.
URL:https://beta.dietetykxxiwieku.pl/event/newsletter-dietetyczny-5/2028-01-06/
ATTACH;FMTTYPE=image/png:https://beta.dietetykxxiwieku.pl/wp-content/uploads/2025/05/Badania-mikrobioty-i-stosowanie-probiotykow-u-osob-zdrowych-podsumowanie-zalecen-i-wytycznych.png
END:VEVENT
BEGIN:VEVENT
DTSTART;VALUE=DATE:20280113
DTEND;VALUE=DATE:20280114
DTSTAMP:20260421T075807
CREATED:20250508T120308Z
LAST-MODIFIED:20250730T111749Z
UID:10000422-1831334400-1831420799@beta.dietetykxxiwieku.pl
SUMMARY:Newsletter dietetyczny
DESCRIPTION:Krótki opis wydarzenia. Jedno zdanie\, które nie będzie bardzo obszerne. Krótki opis wydarzenia. Jedno zdanie\, które nie będzie bardzo obszerne.
URL:https://beta.dietetykxxiwieku.pl/event/newsletter-dietetyczny-5/2028-01-13/
ATTACH;FMTTYPE=image/png:https://beta.dietetykxxiwieku.pl/wp-content/uploads/2025/05/Badania-mikrobioty-i-stosowanie-probiotykow-u-osob-zdrowych-podsumowanie-zalecen-i-wytycznych.png
END:VEVENT
BEGIN:VEVENT
DTSTART;VALUE=DATE:20280120
DTEND;VALUE=DATE:20280121
DTSTAMP:20260421T075807
CREATED:20250508T120308Z
LAST-MODIFIED:20250730T111749Z
UID:10000423-1831939200-1832025599@beta.dietetykxxiwieku.pl
SUMMARY:Newsletter dietetyczny
DESCRIPTION:Krótki opis wydarzenia. Jedno zdanie\, które nie będzie bardzo obszerne. Krótki opis wydarzenia. Jedno zdanie\, które nie będzie bardzo obszerne.
URL:https://beta.dietetykxxiwieku.pl/event/newsletter-dietetyczny-5/2028-01-20/
ATTACH;FMTTYPE=image/png:https://beta.dietetykxxiwieku.pl/wp-content/uploads/2025/05/Badania-mikrobioty-i-stosowanie-probiotykow-u-osob-zdrowych-podsumowanie-zalecen-i-wytycznych.png
END:VEVENT
BEGIN:VEVENT
DTSTART;VALUE=DATE:20280127
DTEND;VALUE=DATE:20280128
DTSTAMP:20260421T075807
CREATED:20250508T120308Z
LAST-MODIFIED:20250730T111749Z
UID:10000424-1832544000-1832630399@beta.dietetykxxiwieku.pl
SUMMARY:Newsletter dietetyczny
DESCRIPTION:Krótki opis wydarzenia. Jedno zdanie\, które nie będzie bardzo obszerne. Krótki opis wydarzenia. Jedno zdanie\, które nie będzie bardzo obszerne.
URL:https://beta.dietetykxxiwieku.pl/event/newsletter-dietetyczny-5/2028-01-27/
ATTACH;FMTTYPE=image/png:https://beta.dietetykxxiwieku.pl/wp-content/uploads/2025/05/Badania-mikrobioty-i-stosowanie-probiotykow-u-osob-zdrowych-podsumowanie-zalecen-i-wytycznych.png
END:VEVENT
BEGIN:VEVENT
DTSTART;VALUE=DATE:20280203
DTEND;VALUE=DATE:20280204
DTSTAMP:20260421T075807
CREATED:20250508T120308Z
LAST-MODIFIED:20250730T111749Z
UID:10000425-1833148800-1833235199@beta.dietetykxxiwieku.pl
SUMMARY:Newsletter dietetyczny
DESCRIPTION:Krótki opis wydarzenia. Jedno zdanie\, które nie będzie bardzo obszerne. Krótki opis wydarzenia. Jedno zdanie\, które nie będzie bardzo obszerne.
URL:https://beta.dietetykxxiwieku.pl/event/newsletter-dietetyczny-5/2028-02-03/
ATTACH;FMTTYPE=image/png:https://beta.dietetykxxiwieku.pl/wp-content/uploads/2025/05/Badania-mikrobioty-i-stosowanie-probiotykow-u-osob-zdrowych-podsumowanie-zalecen-i-wytycznych.png
END:VEVENT
BEGIN:VEVENT
DTSTART;VALUE=DATE:20280210
DTEND;VALUE=DATE:20280211
DTSTAMP:20260421T075807
CREATED:20250508T120308Z
LAST-MODIFIED:20250730T111749Z
UID:10000426-1833753600-1833839999@beta.dietetykxxiwieku.pl
SUMMARY:Newsletter dietetyczny
DESCRIPTION:Krótki opis wydarzenia. Jedno zdanie\, które nie będzie bardzo obszerne. Krótki opis wydarzenia. Jedno zdanie\, które nie będzie bardzo obszerne.
URL:https://beta.dietetykxxiwieku.pl/event/newsletter-dietetyczny-5/2028-02-10/
ATTACH;FMTTYPE=image/png:https://beta.dietetykxxiwieku.pl/wp-content/uploads/2025/05/Badania-mikrobioty-i-stosowanie-probiotykow-u-osob-zdrowych-podsumowanie-zalecen-i-wytycznych.png
END:VEVENT
END:VCALENDAR