BEGIN:VCALENDAR
VERSION:2.0
PRODID:-//Dietetyk XXI Wieku - ECPv6.15.12.2//NONSGML v1.0//EN
CALSCALE:GREGORIAN
METHOD:PUBLISH
X-WR-CALNAME:Dietetyk XXI Wieku
X-ORIGINAL-URL:https://beta.dietetykxxiwieku.pl
X-WR-CALDESC:Wydarzenia dla Dietetyk XXI Wieku
REFRESH-INTERVAL;VALUE=DURATION:PT1H
X-Robots-Tag:noindex
X-PUBLISHED-TTL:PT1H
BEGIN:VTIMEZONE
TZID:Europe/Warsaw
BEGIN:DAYLIGHT
TZOFFSETFROM:+0100
TZOFFSETTO:+0200
TZNAME:CEST
DTSTART:20240331T010000
END:DAYLIGHT
BEGIN:STANDARD
TZOFFSETFROM:+0200
TZOFFSETTO:+0100
TZNAME:CET
DTSTART:20241027T010000
END:STANDARD
BEGIN:DAYLIGHT
TZOFFSETFROM:+0100
TZOFFSETTO:+0200
TZNAME:CEST
DTSTART:20250330T010000
END:DAYLIGHT
BEGIN:STANDARD
TZOFFSETFROM:+0200
TZOFFSETTO:+0100
TZNAME:CET
DTSTART:20251026T010000
END:STANDARD
BEGIN:DAYLIGHT
TZOFFSETFROM:+0100
TZOFFSETTO:+0200
TZNAME:CEST
DTSTART:20260329T010000
END:DAYLIGHT
BEGIN:STANDARD
TZOFFSETFROM:+0200
TZOFFSETTO:+0100
TZNAME:CET
DTSTART:20261025T010000
END:STANDARD
END:VTIMEZONE
BEGIN:VEVENT
DTSTART;VALUE=DATE:20251127
DTEND;VALUE=DATE:20251128
DTSTAMP:20260420T200815
CREATED:20250508T120308Z
LAST-MODIFIED:20250730T111749Z
UID:10000311-1764201600-1764287999@beta.dietetykxxiwieku.pl
SUMMARY:Newsletter dietetyczny
DESCRIPTION:Krótki opis wydarzenia. Jedno zdanie\, które nie będzie bardzo obszerne. Krótki opis wydarzenia. Jedno zdanie\, które nie będzie bardzo obszerne.
URL:https://beta.dietetykxxiwieku.pl/event/newsletter-dietetyczny-5/2025-11-27/
ATTACH;FMTTYPE=image/png:https://beta.dietetykxxiwieku.pl/wp-content/uploads/2025/05/Badania-mikrobioty-i-stosowanie-probiotykow-u-osob-zdrowych-podsumowanie-zalecen-i-wytycznych.png
END:VEVENT
BEGIN:VEVENT
DTSTART;VALUE=DATE:20251120
DTEND;VALUE=DATE:20251121
DTSTAMP:20260420T200815
CREATED:20250508T120308Z
LAST-MODIFIED:20250730T111749Z
UID:10000310-1763596800-1763683199@beta.dietetykxxiwieku.pl
SUMMARY:Newsletter dietetyczny
DESCRIPTION:Krótki opis wydarzenia. Jedno zdanie\, które nie będzie bardzo obszerne. Krótki opis wydarzenia. Jedno zdanie\, które nie będzie bardzo obszerne.
URL:https://beta.dietetykxxiwieku.pl/event/newsletter-dietetyczny-5/2025-11-20/
ATTACH;FMTTYPE=image/png:https://beta.dietetykxxiwieku.pl/wp-content/uploads/2025/05/Badania-mikrobioty-i-stosowanie-probiotykow-u-osob-zdrowych-podsumowanie-zalecen-i-wytycznych.png
END:VEVENT
BEGIN:VEVENT
DTSTART;VALUE=DATE:20251113
DTEND;VALUE=DATE:20251114
DTSTAMP:20260420T200815
CREATED:20250508T120308Z
LAST-MODIFIED:20250730T111749Z
UID:10000309-1762992000-1763078399@beta.dietetykxxiwieku.pl
SUMMARY:Newsletter dietetyczny
DESCRIPTION:Krótki opis wydarzenia. Jedno zdanie\, które nie będzie bardzo obszerne. Krótki opis wydarzenia. Jedno zdanie\, które nie będzie bardzo obszerne.
URL:https://beta.dietetykxxiwieku.pl/event/newsletter-dietetyczny-5/2025-11-13/
ATTACH;FMTTYPE=image/png:https://beta.dietetykxxiwieku.pl/wp-content/uploads/2025/05/Badania-mikrobioty-i-stosowanie-probiotykow-u-osob-zdrowych-podsumowanie-zalecen-i-wytycznych.png
END:VEVENT
BEGIN:VEVENT
DTSTART;VALUE=DATE:20251106
DTEND;VALUE=DATE:20251107
DTSTAMP:20260420T200815
CREATED:20250508T120308Z
LAST-MODIFIED:20250730T111749Z
UID:10000308-1762387200-1762473599@beta.dietetykxxiwieku.pl
SUMMARY:Newsletter dietetyczny
DESCRIPTION:Krótki opis wydarzenia. Jedno zdanie\, które nie będzie bardzo obszerne. Krótki opis wydarzenia. Jedno zdanie\, które nie będzie bardzo obszerne.
URL:https://beta.dietetykxxiwieku.pl/event/newsletter-dietetyczny-5/2025-11-06/
ATTACH;FMTTYPE=image/png:https://beta.dietetykxxiwieku.pl/wp-content/uploads/2025/05/Badania-mikrobioty-i-stosowanie-probiotykow-u-osob-zdrowych-podsumowanie-zalecen-i-wytycznych.png
END:VEVENT
BEGIN:VEVENT
DTSTART;VALUE=DATE:20251030
DTEND;VALUE=DATE:20251031
DTSTAMP:20260420T200815
CREATED:20250508T120308Z
LAST-MODIFIED:20250730T111749Z
UID:10000307-1761782400-1761868799@beta.dietetykxxiwieku.pl
SUMMARY:Newsletter dietetyczny
DESCRIPTION:Krótki opis wydarzenia. Jedno zdanie\, które nie będzie bardzo obszerne. Krótki opis wydarzenia. Jedno zdanie\, które nie będzie bardzo obszerne.
URL:https://beta.dietetykxxiwieku.pl/event/newsletter-dietetyczny-5/2025-10-30/
ATTACH;FMTTYPE=image/png:https://beta.dietetykxxiwieku.pl/wp-content/uploads/2025/05/Badania-mikrobioty-i-stosowanie-probiotykow-u-osob-zdrowych-podsumowanie-zalecen-i-wytycznych.png
END:VEVENT
BEGIN:VEVENT
DTSTART;VALUE=DATE:20251023
DTEND;VALUE=DATE:20251024
DTSTAMP:20260420T200815
CREATED:20250508T120308Z
LAST-MODIFIED:20250730T111749Z
UID:10000306-1761177600-1761263999@beta.dietetykxxiwieku.pl
SUMMARY:Newsletter dietetyczny
DESCRIPTION:Krótki opis wydarzenia. Jedno zdanie\, które nie będzie bardzo obszerne. Krótki opis wydarzenia. Jedno zdanie\, które nie będzie bardzo obszerne.
URL:https://beta.dietetykxxiwieku.pl/event/newsletter-dietetyczny-5/2025-10-23/
ATTACH;FMTTYPE=image/png:https://beta.dietetykxxiwieku.pl/wp-content/uploads/2025/05/Badania-mikrobioty-i-stosowanie-probiotykow-u-osob-zdrowych-podsumowanie-zalecen-i-wytycznych.png
END:VEVENT
BEGIN:VEVENT
DTSTART;VALUE=DATE:20251016
DTEND;VALUE=DATE:20251017
DTSTAMP:20260420T200815
CREATED:20250508T120308Z
LAST-MODIFIED:20250730T111749Z
UID:10000305-1760572800-1760659199@beta.dietetykxxiwieku.pl
SUMMARY:Newsletter dietetyczny
DESCRIPTION:Krótki opis wydarzenia. Jedno zdanie\, które nie będzie bardzo obszerne. Krótki opis wydarzenia. Jedno zdanie\, które nie będzie bardzo obszerne.
URL:https://beta.dietetykxxiwieku.pl/event/newsletter-dietetyczny-5/2025-10-16/
ATTACH;FMTTYPE=image/png:https://beta.dietetykxxiwieku.pl/wp-content/uploads/2025/05/Badania-mikrobioty-i-stosowanie-probiotykow-u-osob-zdrowych-podsumowanie-zalecen-i-wytycznych.png
END:VEVENT
BEGIN:VEVENT
DTSTART;VALUE=DATE:20251009
DTEND;VALUE=DATE:20251010
DTSTAMP:20260420T200815
CREATED:20250508T120308Z
LAST-MODIFIED:20250730T111749Z
UID:10000304-1759968000-1760054399@beta.dietetykxxiwieku.pl
SUMMARY:Newsletter dietetyczny
DESCRIPTION:Krótki opis wydarzenia. Jedno zdanie\, które nie będzie bardzo obszerne. Krótki opis wydarzenia. Jedno zdanie\, które nie będzie bardzo obszerne.
URL:https://beta.dietetykxxiwieku.pl/event/newsletter-dietetyczny-5/2025-10-09/
ATTACH;FMTTYPE=image/png:https://beta.dietetykxxiwieku.pl/wp-content/uploads/2025/05/Badania-mikrobioty-i-stosowanie-probiotykow-u-osob-zdrowych-podsumowanie-zalecen-i-wytycznych.png
END:VEVENT
BEGIN:VEVENT
DTSTART;VALUE=DATE:20251002
DTEND;VALUE=DATE:20251003
DTSTAMP:20260420T200815
CREATED:20250508T120308Z
LAST-MODIFIED:20250730T111749Z
UID:10000303-1759363200-1759449599@beta.dietetykxxiwieku.pl
SUMMARY:Newsletter dietetyczny
DESCRIPTION:Krótki opis wydarzenia. Jedno zdanie\, które nie będzie bardzo obszerne. Krótki opis wydarzenia. Jedno zdanie\, które nie będzie bardzo obszerne.
URL:https://beta.dietetykxxiwieku.pl/event/newsletter-dietetyczny-5/2025-10-02/
ATTACH;FMTTYPE=image/png:https://beta.dietetykxxiwieku.pl/wp-content/uploads/2025/05/Badania-mikrobioty-i-stosowanie-probiotykow-u-osob-zdrowych-podsumowanie-zalecen-i-wytycznych.png
END:VEVENT
BEGIN:VEVENT
DTSTART;VALUE=DATE:20250925
DTEND;VALUE=DATE:20250926
DTSTAMP:20260420T200815
CREATED:20250508T120308Z
LAST-MODIFIED:20250730T111749Z
UID:10000302-1758758400-1758844799@beta.dietetykxxiwieku.pl
SUMMARY:Newsletter dietetyczny
DESCRIPTION:Krótki opis wydarzenia. Jedno zdanie\, które nie będzie bardzo obszerne. Krótki opis wydarzenia. Jedno zdanie\, które nie będzie bardzo obszerne.
URL:https://beta.dietetykxxiwieku.pl/event/newsletter-dietetyczny-5/2025-09-25/
ATTACH;FMTTYPE=image/png:https://beta.dietetykxxiwieku.pl/wp-content/uploads/2025/05/Badania-mikrobioty-i-stosowanie-probiotykow-u-osob-zdrowych-podsumowanie-zalecen-i-wytycznych.png
END:VEVENT
BEGIN:VEVENT
DTSTART;VALUE=DATE:20250918
DTEND;VALUE=DATE:20250919
DTSTAMP:20260420T200815
CREATED:20250508T120308Z
LAST-MODIFIED:20250730T111749Z
UID:10000301-1758153600-1758239999@beta.dietetykxxiwieku.pl
SUMMARY:Newsletter dietetyczny
DESCRIPTION:Krótki opis wydarzenia. Jedno zdanie\, które nie będzie bardzo obszerne. Krótki opis wydarzenia. Jedno zdanie\, które nie będzie bardzo obszerne.
URL:https://beta.dietetykxxiwieku.pl/event/newsletter-dietetyczny-5/2025-09-18/
ATTACH;FMTTYPE=image/png:https://beta.dietetykxxiwieku.pl/wp-content/uploads/2025/05/Badania-mikrobioty-i-stosowanie-probiotykow-u-osob-zdrowych-podsumowanie-zalecen-i-wytycznych.png
END:VEVENT
BEGIN:VEVENT
DTSTART;VALUE=DATE:20250911
DTEND;VALUE=DATE:20250912
DTSTAMP:20260420T200815
CREATED:20250508T120308Z
LAST-MODIFIED:20250730T111749Z
UID:10000300-1757548800-1757635199@beta.dietetykxxiwieku.pl
SUMMARY:Newsletter dietetyczny
DESCRIPTION:Krótki opis wydarzenia. Jedno zdanie\, które nie będzie bardzo obszerne. Krótki opis wydarzenia. Jedno zdanie\, które nie będzie bardzo obszerne.
URL:https://beta.dietetykxxiwieku.pl/event/newsletter-dietetyczny-5/2025-09-11/
ATTACH;FMTTYPE=image/png:https://beta.dietetykxxiwieku.pl/wp-content/uploads/2025/05/Badania-mikrobioty-i-stosowanie-probiotykow-u-osob-zdrowych-podsumowanie-zalecen-i-wytycznych.png
END:VEVENT
BEGIN:VEVENT
DTSTART;VALUE=DATE:20250904
DTEND;VALUE=DATE:20250905
DTSTAMP:20260420T200815
CREATED:20250508T120308Z
LAST-MODIFIED:20250730T111749Z
UID:10000299-1756944000-1757030399@beta.dietetykxxiwieku.pl
SUMMARY:Newsletter dietetyczny
DESCRIPTION:Krótki opis wydarzenia. Jedno zdanie\, które nie będzie bardzo obszerne. Krótki opis wydarzenia. Jedno zdanie\, które nie będzie bardzo obszerne.
URL:https://beta.dietetykxxiwieku.pl/event/newsletter-dietetyczny-5/2025-09-04/
ATTACH;FMTTYPE=image/png:https://beta.dietetykxxiwieku.pl/wp-content/uploads/2025/05/Badania-mikrobioty-i-stosowanie-probiotykow-u-osob-zdrowych-podsumowanie-zalecen-i-wytycznych.png
END:VEVENT
BEGIN:VEVENT
DTSTART;VALUE=DATE:20250828
DTEND;VALUE=DATE:20250829
DTSTAMP:20260420T200815
CREATED:20250508T120308Z
LAST-MODIFIED:20250730T111749Z
UID:10000298-1756339200-1756425599@beta.dietetykxxiwieku.pl
SUMMARY:Newsletter dietetyczny
DESCRIPTION:Krótki opis wydarzenia. Jedno zdanie\, które nie będzie bardzo obszerne. Krótki opis wydarzenia. Jedno zdanie\, które nie będzie bardzo obszerne.
URL:https://beta.dietetykxxiwieku.pl/event/newsletter-dietetyczny-5/2025-08-28/
ATTACH;FMTTYPE=image/png:https://beta.dietetykxxiwieku.pl/wp-content/uploads/2025/05/Badania-mikrobioty-i-stosowanie-probiotykow-u-osob-zdrowych-podsumowanie-zalecen-i-wytycznych.png
END:VEVENT
BEGIN:VEVENT
DTSTART;VALUE=DATE:20250821
DTEND;VALUE=DATE:20250822
DTSTAMP:20260420T200815
CREATED:20250508T120308Z
LAST-MODIFIED:20250730T111749Z
UID:10000297-1755734400-1755820799@beta.dietetykxxiwieku.pl
SUMMARY:Newsletter dietetyczny
DESCRIPTION:Krótki opis wydarzenia. Jedno zdanie\, które nie będzie bardzo obszerne. Krótki opis wydarzenia. Jedno zdanie\, które nie będzie bardzo obszerne.
URL:https://beta.dietetykxxiwieku.pl/event/newsletter-dietetyczny-5/2025-08-21/
ATTACH;FMTTYPE=image/png:https://beta.dietetykxxiwieku.pl/wp-content/uploads/2025/05/Badania-mikrobioty-i-stosowanie-probiotykow-u-osob-zdrowych-podsumowanie-zalecen-i-wytycznych.png
END:VEVENT
BEGIN:VEVENT
DTSTART;VALUE=DATE:20250814
DTEND;VALUE=DATE:20250815
DTSTAMP:20260420T200815
CREATED:20250508T120308Z
LAST-MODIFIED:20250730T111749Z
UID:10000296-1755129600-1755215999@beta.dietetykxxiwieku.pl
SUMMARY:Newsletter dietetyczny
DESCRIPTION:Krótki opis wydarzenia. Jedno zdanie\, które nie będzie bardzo obszerne. Krótki opis wydarzenia. Jedno zdanie\, które nie będzie bardzo obszerne.
URL:https://beta.dietetykxxiwieku.pl/event/newsletter-dietetyczny-5/2025-08-14/
ATTACH;FMTTYPE=image/png:https://beta.dietetykxxiwieku.pl/wp-content/uploads/2025/05/Badania-mikrobioty-i-stosowanie-probiotykow-u-osob-zdrowych-podsumowanie-zalecen-i-wytycznych.png
END:VEVENT
BEGIN:VEVENT
DTSTART;VALUE=DATE:20250807
DTEND;VALUE=DATE:20250808
DTSTAMP:20260420T200815
CREATED:20250508T120308Z
LAST-MODIFIED:20250730T111749Z
UID:10000295-1754524800-1754611199@beta.dietetykxxiwieku.pl
SUMMARY:Newsletter dietetyczny
DESCRIPTION:Krótki opis wydarzenia. Jedno zdanie\, które nie będzie bardzo obszerne. Krótki opis wydarzenia. Jedno zdanie\, które nie będzie bardzo obszerne.
URL:https://beta.dietetykxxiwieku.pl/event/newsletter-dietetyczny-5/2025-08-07/
ATTACH;FMTTYPE=image/png:https://beta.dietetykxxiwieku.pl/wp-content/uploads/2025/05/Badania-mikrobioty-i-stosowanie-probiotykow-u-osob-zdrowych-podsumowanie-zalecen-i-wytycznych.png
END:VEVENT
BEGIN:VEVENT
DTSTART;VALUE=DATE:20250731
DTEND;VALUE=DATE:20250801
DTSTAMP:20260420T200815
CREATED:20250508T120308Z
LAST-MODIFIED:20250730T111749Z
UID:10000294-1753920000-1754006399@beta.dietetykxxiwieku.pl
SUMMARY:Newsletter dietetyczny
DESCRIPTION:Krótki opis wydarzenia. Jedno zdanie\, które nie będzie bardzo obszerne. Krótki opis wydarzenia. Jedno zdanie\, które nie będzie bardzo obszerne.
URL:https://beta.dietetykxxiwieku.pl/event/newsletter-dietetyczny-5/2025-07-31/
ATTACH;FMTTYPE=image/png:https://beta.dietetykxxiwieku.pl/wp-content/uploads/2025/05/Badania-mikrobioty-i-stosowanie-probiotykow-u-osob-zdrowych-podsumowanie-zalecen-i-wytycznych.png
END:VEVENT
BEGIN:VEVENT
DTSTART;VALUE=DATE:20250724
DTEND;VALUE=DATE:20250725
DTSTAMP:20260420T200815
CREATED:20250508T120308Z
LAST-MODIFIED:20250730T111749Z
UID:10000293-1753315200-1753401599@beta.dietetykxxiwieku.pl
SUMMARY:Newsletter dietetyczny
DESCRIPTION:Krótki opis wydarzenia. Jedno zdanie\, które nie będzie bardzo obszerne. Krótki opis wydarzenia. Jedno zdanie\, które nie będzie bardzo obszerne.
URL:https://beta.dietetykxxiwieku.pl/event/newsletter-dietetyczny-5/2025-07-24/
ATTACH;FMTTYPE=image/png:https://beta.dietetykxxiwieku.pl/wp-content/uploads/2025/05/Badania-mikrobioty-i-stosowanie-probiotykow-u-osob-zdrowych-podsumowanie-zalecen-i-wytycznych.png
END:VEVENT
BEGIN:VEVENT
DTSTART;VALUE=DATE:20250717
DTEND;VALUE=DATE:20250718
DTSTAMP:20260420T200815
CREATED:20250508T120308Z
LAST-MODIFIED:20250730T111749Z
UID:10000292-1752710400-1752796799@beta.dietetykxxiwieku.pl
SUMMARY:Newsletter dietetyczny
DESCRIPTION:Krótki opis wydarzenia. Jedno zdanie\, które nie będzie bardzo obszerne. Krótki opis wydarzenia. Jedno zdanie\, które nie będzie bardzo obszerne.
URL:https://beta.dietetykxxiwieku.pl/event/newsletter-dietetyczny-5/2025-07-17/
ATTACH;FMTTYPE=image/png:https://beta.dietetykxxiwieku.pl/wp-content/uploads/2025/05/Badania-mikrobioty-i-stosowanie-probiotykow-u-osob-zdrowych-podsumowanie-zalecen-i-wytycznych.png
END:VEVENT
BEGIN:VEVENT
DTSTART;VALUE=DATE:20250710
DTEND;VALUE=DATE:20250711
DTSTAMP:20260420T200815
CREATED:20250508T120308Z
LAST-MODIFIED:20250730T111749Z
UID:10000291-1752105600-1752191999@beta.dietetykxxiwieku.pl
SUMMARY:Newsletter dietetyczny
DESCRIPTION:Krótki opis wydarzenia. Jedno zdanie\, które nie będzie bardzo obszerne. Krótki opis wydarzenia. Jedno zdanie\, które nie będzie bardzo obszerne.
URL:https://beta.dietetykxxiwieku.pl/event/newsletter-dietetyczny-5/2025-07-10/
ATTACH;FMTTYPE=image/png:https://beta.dietetykxxiwieku.pl/wp-content/uploads/2025/05/Badania-mikrobioty-i-stosowanie-probiotykow-u-osob-zdrowych-podsumowanie-zalecen-i-wytycznych.png
END:VEVENT
BEGIN:VEVENT
DTSTART;VALUE=DATE:20250703
DTEND;VALUE=DATE:20250704
DTSTAMP:20260420T200815
CREATED:20250508T120308Z
LAST-MODIFIED:20250730T111749Z
UID:10000290-1751500800-1751587199@beta.dietetykxxiwieku.pl
SUMMARY:Newsletter dietetyczny
DESCRIPTION:Krótki opis wydarzenia. Jedno zdanie\, które nie będzie bardzo obszerne. Krótki opis wydarzenia. Jedno zdanie\, które nie będzie bardzo obszerne.
URL:https://beta.dietetykxxiwieku.pl/event/newsletter-dietetyczny-5/2025-07-03/
ATTACH;FMTTYPE=image/png:https://beta.dietetykxxiwieku.pl/wp-content/uploads/2025/05/Badania-mikrobioty-i-stosowanie-probiotykow-u-osob-zdrowych-podsumowanie-zalecen-i-wytycznych.png
END:VEVENT
BEGIN:VEVENT
DTSTART;VALUE=DATE:20250626
DTEND;VALUE=DATE:20250627
DTSTAMP:20260420T200815
CREATED:20250508T120308Z
LAST-MODIFIED:20250730T111749Z
UID:10000289-1750896000-1750982399@beta.dietetykxxiwieku.pl
SUMMARY:Newsletter dietetyczny
DESCRIPTION:Krótki opis wydarzenia. Jedno zdanie\, które nie będzie bardzo obszerne. Krótki opis wydarzenia. Jedno zdanie\, które nie będzie bardzo obszerne.
URL:https://beta.dietetykxxiwieku.pl/event/newsletter-dietetyczny-5/2025-06-26/
ATTACH;FMTTYPE=image/png:https://beta.dietetykxxiwieku.pl/wp-content/uploads/2025/05/Badania-mikrobioty-i-stosowanie-probiotykow-u-osob-zdrowych-podsumowanie-zalecen-i-wytycznych.png
END:VEVENT
BEGIN:VEVENT
DTSTART;VALUE=DATE:20250619
DTEND;VALUE=DATE:20250620
DTSTAMP:20260420T200815
CREATED:20250508T120308Z
LAST-MODIFIED:20250730T111749Z
UID:10000288-1750291200-1750377599@beta.dietetykxxiwieku.pl
SUMMARY:Newsletter dietetyczny
DESCRIPTION:Krótki opis wydarzenia. Jedno zdanie\, które nie będzie bardzo obszerne. Krótki opis wydarzenia. Jedno zdanie\, które nie będzie bardzo obszerne.
URL:https://beta.dietetykxxiwieku.pl/event/newsletter-dietetyczny-5/2025-06-19/
ATTACH;FMTTYPE=image/png:https://beta.dietetykxxiwieku.pl/wp-content/uploads/2025/05/Badania-mikrobioty-i-stosowanie-probiotykow-u-osob-zdrowych-podsumowanie-zalecen-i-wytycznych.png
END:VEVENT
BEGIN:VEVENT
DTSTART;VALUE=DATE:20250612
DTEND;VALUE=DATE:20250613
DTSTAMP:20260420T200815
CREATED:20250508T120308Z
LAST-MODIFIED:20250730T111749Z
UID:10000287-1749686400-1749772799@beta.dietetykxxiwieku.pl
SUMMARY:Newsletter dietetyczny
DESCRIPTION:Krótki opis wydarzenia. Jedno zdanie\, które nie będzie bardzo obszerne. Krótki opis wydarzenia. Jedno zdanie\, które nie będzie bardzo obszerne.
URL:https://beta.dietetykxxiwieku.pl/event/newsletter-dietetyczny-5/2025-06-12/
ATTACH;FMTTYPE=image/png:https://beta.dietetykxxiwieku.pl/wp-content/uploads/2025/05/Badania-mikrobioty-i-stosowanie-probiotykow-u-osob-zdrowych-podsumowanie-zalecen-i-wytycznych.png
END:VEVENT
BEGIN:VEVENT
DTSTART;VALUE=DATE:20250605
DTEND;VALUE=DATE:20250606
DTSTAMP:20260420T200815
CREATED:20250508T120308Z
LAST-MODIFIED:20250730T111749Z
UID:10000286-1749081600-1749167999@beta.dietetykxxiwieku.pl
SUMMARY:Newsletter dietetyczny
DESCRIPTION:Krótki opis wydarzenia. Jedno zdanie\, które nie będzie bardzo obszerne. Krótki opis wydarzenia. Jedno zdanie\, które nie będzie bardzo obszerne.
URL:https://beta.dietetykxxiwieku.pl/event/newsletter-dietetyczny-5/2025-06-05/
ATTACH;FMTTYPE=image/png:https://beta.dietetykxxiwieku.pl/wp-content/uploads/2025/05/Badania-mikrobioty-i-stosowanie-probiotykow-u-osob-zdrowych-podsumowanie-zalecen-i-wytycznych.png
END:VEVENT
BEGIN:VEVENT
DTSTART;VALUE=DATE:20250529
DTEND;VALUE=DATE:20250530
DTSTAMP:20260420T200815
CREATED:20250508T120308Z
LAST-MODIFIED:20250730T111749Z
UID:10000285-1748476800-1748563199@beta.dietetykxxiwieku.pl
SUMMARY:Newsletter dietetyczny
DESCRIPTION:Krótki opis wydarzenia. Jedno zdanie\, które nie będzie bardzo obszerne. Krótki opis wydarzenia. Jedno zdanie\, które nie będzie bardzo obszerne.
URL:https://beta.dietetykxxiwieku.pl/event/newsletter-dietetyczny-5/2025-05-29/
ATTACH;FMTTYPE=image/png:https://beta.dietetykxxiwieku.pl/wp-content/uploads/2025/05/Badania-mikrobioty-i-stosowanie-probiotykow-u-osob-zdrowych-podsumowanie-zalecen-i-wytycznych.png
END:VEVENT
BEGIN:VEVENT
DTSTART;VALUE=DATE:20250522
DTEND;VALUE=DATE:20250523
DTSTAMP:20260420T200815
CREATED:20250508T120308Z
LAST-MODIFIED:20250730T111749Z
UID:10000284-1747872000-1747958399@beta.dietetykxxiwieku.pl
SUMMARY:Newsletter dietetyczny
DESCRIPTION:Krótki opis wydarzenia. Jedno zdanie\, które nie będzie bardzo obszerne. Krótki opis wydarzenia. Jedno zdanie\, które nie będzie bardzo obszerne.
URL:https://beta.dietetykxxiwieku.pl/event/newsletter-dietetyczny-5/2025-05-22/
ATTACH;FMTTYPE=image/png:https://beta.dietetykxxiwieku.pl/wp-content/uploads/2025/05/Badania-mikrobioty-i-stosowanie-probiotykow-u-osob-zdrowych-podsumowanie-zalecen-i-wytycznych.png
END:VEVENT
BEGIN:VEVENT
DTSTART;VALUE=DATE:20250515
DTEND;VALUE=DATE:20250516
DTSTAMP:20260420T200815
CREATED:20250508T120308Z
LAST-MODIFIED:20250730T111749Z
UID:10000283-1747267200-1747353599@beta.dietetykxxiwieku.pl
SUMMARY:Newsletter dietetyczny
DESCRIPTION:Krótki opis wydarzenia. Jedno zdanie\, które nie będzie bardzo obszerne. Krótki opis wydarzenia. Jedno zdanie\, które nie będzie bardzo obszerne.
URL:https://beta.dietetykxxiwieku.pl/event/newsletter-dietetyczny-5/2025-05-15/
ATTACH;FMTTYPE=image/png:https://beta.dietetykxxiwieku.pl/wp-content/uploads/2025/05/Badania-mikrobioty-i-stosowanie-probiotykow-u-osob-zdrowych-podsumowanie-zalecen-i-wytycznych.png
END:VEVENT
BEGIN:VEVENT
DTSTART;VALUE=DATE:20250508
DTEND;VALUE=DATE:20250509
DTSTAMP:20260420T200815
CREATED:20250508T120308Z
LAST-MODIFIED:20250730T111749Z
UID:10000282-1746662400-1746748799@beta.dietetykxxiwieku.pl
SUMMARY:Newsletter dietetyczny
DESCRIPTION:Krótki opis wydarzenia. Jedno zdanie\, które nie będzie bardzo obszerne. Krótki opis wydarzenia. Jedno zdanie\, które nie będzie bardzo obszerne.
URL:https://beta.dietetykxxiwieku.pl/event/newsletter-dietetyczny-5/2025-05-08/
ATTACH;FMTTYPE=image/png:https://beta.dietetykxxiwieku.pl/wp-content/uploads/2025/05/Badania-mikrobioty-i-stosowanie-probiotykow-u-osob-zdrowych-podsumowanie-zalecen-i-wytycznych.png
END:VEVENT
END:VCALENDAR