BEGIN:VCALENDAR
VERSION:2.0
PRODID:-//Dietetyk XXI Wieku - ECPv6.15.12.2//NONSGML v1.0//EN
CALSCALE:GREGORIAN
METHOD:PUBLISH
X-WR-CALNAME:Dietetyk XXI Wieku
X-ORIGINAL-URL:https://beta.dietetykxxiwieku.pl
X-WR-CALDESC:Wydarzenia dla Dietetyk XXI Wieku
REFRESH-INTERVAL;VALUE=DURATION:PT1H
X-Robots-Tag:noindex
X-PUBLISHED-TTL:PT1H
BEGIN:VTIMEZONE
TZID:Europe/Warsaw
BEGIN:DAYLIGHT
TZOFFSETFROM:+0100
TZOFFSETTO:+0200
TZNAME:CEST
DTSTART:20260329T010000
END:DAYLIGHT
BEGIN:STANDARD
TZOFFSETFROM:+0200
TZOFFSETTO:+0100
TZNAME:CET
DTSTART:20261025T010000
END:STANDARD
BEGIN:DAYLIGHT
TZOFFSETFROM:+0100
TZOFFSETTO:+0200
TZNAME:CEST
DTSTART:20270328T010000
END:DAYLIGHT
BEGIN:STANDARD
TZOFFSETFROM:+0200
TZOFFSETTO:+0100
TZNAME:CET
DTSTART:20271031T010000
END:STANDARD
BEGIN:DAYLIGHT
TZOFFSETFROM:+0100
TZOFFSETTO:+0200
TZNAME:CEST
DTSTART:20280326T010000
END:DAYLIGHT
BEGIN:STANDARD
TZOFFSETFROM:+0200
TZOFFSETTO:+0100
TZNAME:CET
DTSTART:20281029T010000
END:STANDARD
END:VTIMEZONE
BEGIN:VEVENT
DTSTART;VALUE=DATE:20270304
DTEND;VALUE=DATE:20270305
DTSTAMP:20260421T000218
CREATED:20250508T120308Z
LAST-MODIFIED:20250730T111749Z
UID:10000377-1804118400-1804204799@beta.dietetykxxiwieku.pl
SUMMARY:Newsletter dietetyczny
DESCRIPTION:Krótki opis wydarzenia. Jedno zdanie\, które nie będzie bardzo obszerne. Krótki opis wydarzenia. Jedno zdanie\, które nie będzie bardzo obszerne.
URL:https://beta.dietetykxxiwieku.pl/event/newsletter-dietetyczny-5/2027-03-04/
ATTACH;FMTTYPE=image/png:https://beta.dietetykxxiwieku.pl/wp-content/uploads/2025/05/Badania-mikrobioty-i-stosowanie-probiotykow-u-osob-zdrowych-podsumowanie-zalecen-i-wytycznych.png
END:VEVENT
BEGIN:VEVENT
DTSTART;VALUE=DATE:20270311
DTEND;VALUE=DATE:20270312
DTSTAMP:20260421T000218
CREATED:20250508T120308Z
LAST-MODIFIED:20250730T111749Z
UID:10000378-1804723200-1804809599@beta.dietetykxxiwieku.pl
SUMMARY:Newsletter dietetyczny
DESCRIPTION:Krótki opis wydarzenia. Jedno zdanie\, które nie będzie bardzo obszerne. Krótki opis wydarzenia. Jedno zdanie\, które nie będzie bardzo obszerne.
URL:https://beta.dietetykxxiwieku.pl/event/newsletter-dietetyczny-5/2027-03-11/
ATTACH;FMTTYPE=image/png:https://beta.dietetykxxiwieku.pl/wp-content/uploads/2025/05/Badania-mikrobioty-i-stosowanie-probiotykow-u-osob-zdrowych-podsumowanie-zalecen-i-wytycznych.png
END:VEVENT
BEGIN:VEVENT
DTSTART;VALUE=DATE:20270318
DTEND;VALUE=DATE:20270319
DTSTAMP:20260421T000218
CREATED:20250508T120308Z
LAST-MODIFIED:20250730T111749Z
UID:10000379-1805328000-1805414399@beta.dietetykxxiwieku.pl
SUMMARY:Newsletter dietetyczny
DESCRIPTION:Krótki opis wydarzenia. Jedno zdanie\, które nie będzie bardzo obszerne. Krótki opis wydarzenia. Jedno zdanie\, które nie będzie bardzo obszerne.
URL:https://beta.dietetykxxiwieku.pl/event/newsletter-dietetyczny-5/2027-03-18/
ATTACH;FMTTYPE=image/png:https://beta.dietetykxxiwieku.pl/wp-content/uploads/2025/05/Badania-mikrobioty-i-stosowanie-probiotykow-u-osob-zdrowych-podsumowanie-zalecen-i-wytycznych.png
END:VEVENT
BEGIN:VEVENT
DTSTART;VALUE=DATE:20270325
DTEND;VALUE=DATE:20270326
DTSTAMP:20260421T000218
CREATED:20250508T120308Z
LAST-MODIFIED:20250730T111749Z
UID:10000380-1805932800-1806019199@beta.dietetykxxiwieku.pl
SUMMARY:Newsletter dietetyczny
DESCRIPTION:Krótki opis wydarzenia. Jedno zdanie\, które nie będzie bardzo obszerne. Krótki opis wydarzenia. Jedno zdanie\, które nie będzie bardzo obszerne.
URL:https://beta.dietetykxxiwieku.pl/event/newsletter-dietetyczny-5/2027-03-25/
ATTACH;FMTTYPE=image/png:https://beta.dietetykxxiwieku.pl/wp-content/uploads/2025/05/Badania-mikrobioty-i-stosowanie-probiotykow-u-osob-zdrowych-podsumowanie-zalecen-i-wytycznych.png
END:VEVENT
BEGIN:VEVENT
DTSTART;VALUE=DATE:20270401
DTEND;VALUE=DATE:20270402
DTSTAMP:20260421T000218
CREATED:20250508T120308Z
LAST-MODIFIED:20250730T111749Z
UID:10000381-1806537600-1806623999@beta.dietetykxxiwieku.pl
SUMMARY:Newsletter dietetyczny
DESCRIPTION:Krótki opis wydarzenia. Jedno zdanie\, które nie będzie bardzo obszerne. Krótki opis wydarzenia. Jedno zdanie\, które nie będzie bardzo obszerne.
URL:https://beta.dietetykxxiwieku.pl/event/newsletter-dietetyczny-5/2027-04-01/
ATTACH;FMTTYPE=image/png:https://beta.dietetykxxiwieku.pl/wp-content/uploads/2025/05/Badania-mikrobioty-i-stosowanie-probiotykow-u-osob-zdrowych-podsumowanie-zalecen-i-wytycznych.png
END:VEVENT
BEGIN:VEVENT
DTSTART;VALUE=DATE:20270408
DTEND;VALUE=DATE:20270409
DTSTAMP:20260421T000218
CREATED:20250508T120308Z
LAST-MODIFIED:20250730T111749Z
UID:10000382-1807142400-1807228799@beta.dietetykxxiwieku.pl
SUMMARY:Newsletter dietetyczny
DESCRIPTION:Krótki opis wydarzenia. Jedno zdanie\, które nie będzie bardzo obszerne. Krótki opis wydarzenia. Jedno zdanie\, które nie będzie bardzo obszerne.
URL:https://beta.dietetykxxiwieku.pl/event/newsletter-dietetyczny-5/2027-04-08/
ATTACH;FMTTYPE=image/png:https://beta.dietetykxxiwieku.pl/wp-content/uploads/2025/05/Badania-mikrobioty-i-stosowanie-probiotykow-u-osob-zdrowych-podsumowanie-zalecen-i-wytycznych.png
END:VEVENT
BEGIN:VEVENT
DTSTART;VALUE=DATE:20270415
DTEND;VALUE=DATE:20270416
DTSTAMP:20260421T000218
CREATED:20250508T120308Z
LAST-MODIFIED:20250730T111749Z
UID:10000383-1807747200-1807833599@beta.dietetykxxiwieku.pl
SUMMARY:Newsletter dietetyczny
DESCRIPTION:Krótki opis wydarzenia. Jedno zdanie\, które nie będzie bardzo obszerne. Krótki opis wydarzenia. Jedno zdanie\, które nie będzie bardzo obszerne.
URL:https://beta.dietetykxxiwieku.pl/event/newsletter-dietetyczny-5/2027-04-15/
ATTACH;FMTTYPE=image/png:https://beta.dietetykxxiwieku.pl/wp-content/uploads/2025/05/Badania-mikrobioty-i-stosowanie-probiotykow-u-osob-zdrowych-podsumowanie-zalecen-i-wytycznych.png
END:VEVENT
BEGIN:VEVENT
DTSTART;VALUE=DATE:20270422
DTEND;VALUE=DATE:20270423
DTSTAMP:20260421T000218
CREATED:20250508T120308Z
LAST-MODIFIED:20250730T111749Z
UID:10000384-1808352000-1808438399@beta.dietetykxxiwieku.pl
SUMMARY:Newsletter dietetyczny
DESCRIPTION:Krótki opis wydarzenia. Jedno zdanie\, które nie będzie bardzo obszerne. Krótki opis wydarzenia. Jedno zdanie\, które nie będzie bardzo obszerne.
URL:https://beta.dietetykxxiwieku.pl/event/newsletter-dietetyczny-5/2027-04-22/
ATTACH;FMTTYPE=image/png:https://beta.dietetykxxiwieku.pl/wp-content/uploads/2025/05/Badania-mikrobioty-i-stosowanie-probiotykow-u-osob-zdrowych-podsumowanie-zalecen-i-wytycznych.png
END:VEVENT
BEGIN:VEVENT
DTSTART;VALUE=DATE:20270429
DTEND;VALUE=DATE:20270430
DTSTAMP:20260421T000218
CREATED:20250508T120308Z
LAST-MODIFIED:20250730T111749Z
UID:10000385-1808956800-1809043199@beta.dietetykxxiwieku.pl
SUMMARY:Newsletter dietetyczny
DESCRIPTION:Krótki opis wydarzenia. Jedno zdanie\, które nie będzie bardzo obszerne. Krótki opis wydarzenia. Jedno zdanie\, które nie będzie bardzo obszerne.
URL:https://beta.dietetykxxiwieku.pl/event/newsletter-dietetyczny-5/2027-04-29/
ATTACH;FMTTYPE=image/png:https://beta.dietetykxxiwieku.pl/wp-content/uploads/2025/05/Badania-mikrobioty-i-stosowanie-probiotykow-u-osob-zdrowych-podsumowanie-zalecen-i-wytycznych.png
END:VEVENT
BEGIN:VEVENT
DTSTART;VALUE=DATE:20270506
DTEND;VALUE=DATE:20270507
DTSTAMP:20260421T000218
CREATED:20250508T120308Z
LAST-MODIFIED:20250730T111749Z
UID:10000386-1809561600-1809647999@beta.dietetykxxiwieku.pl
SUMMARY:Newsletter dietetyczny
DESCRIPTION:Krótki opis wydarzenia. Jedno zdanie\, które nie będzie bardzo obszerne. Krótki opis wydarzenia. Jedno zdanie\, które nie będzie bardzo obszerne.
URL:https://beta.dietetykxxiwieku.pl/event/newsletter-dietetyczny-5/2027-05-06/
ATTACH;FMTTYPE=image/png:https://beta.dietetykxxiwieku.pl/wp-content/uploads/2025/05/Badania-mikrobioty-i-stosowanie-probiotykow-u-osob-zdrowych-podsumowanie-zalecen-i-wytycznych.png
END:VEVENT
BEGIN:VEVENT
DTSTART;VALUE=DATE:20270513
DTEND;VALUE=DATE:20270514
DTSTAMP:20260421T000218
CREATED:20250508T120308Z
LAST-MODIFIED:20250730T111749Z
UID:10000387-1810166400-1810252799@beta.dietetykxxiwieku.pl
SUMMARY:Newsletter dietetyczny
DESCRIPTION:Krótki opis wydarzenia. Jedno zdanie\, które nie będzie bardzo obszerne. Krótki opis wydarzenia. Jedno zdanie\, które nie będzie bardzo obszerne.
URL:https://beta.dietetykxxiwieku.pl/event/newsletter-dietetyczny-5/2027-05-13/
ATTACH;FMTTYPE=image/png:https://beta.dietetykxxiwieku.pl/wp-content/uploads/2025/05/Badania-mikrobioty-i-stosowanie-probiotykow-u-osob-zdrowych-podsumowanie-zalecen-i-wytycznych.png
END:VEVENT
BEGIN:VEVENT
DTSTART;VALUE=DATE:20270520
DTEND;VALUE=DATE:20270521
DTSTAMP:20260421T000218
CREATED:20250508T120308Z
LAST-MODIFIED:20250730T111749Z
UID:10000388-1810771200-1810857599@beta.dietetykxxiwieku.pl
SUMMARY:Newsletter dietetyczny
DESCRIPTION:Krótki opis wydarzenia. Jedno zdanie\, które nie będzie bardzo obszerne. Krótki opis wydarzenia. Jedno zdanie\, które nie będzie bardzo obszerne.
URL:https://beta.dietetykxxiwieku.pl/event/newsletter-dietetyczny-5/2027-05-20/
ATTACH;FMTTYPE=image/png:https://beta.dietetykxxiwieku.pl/wp-content/uploads/2025/05/Badania-mikrobioty-i-stosowanie-probiotykow-u-osob-zdrowych-podsumowanie-zalecen-i-wytycznych.png
END:VEVENT
BEGIN:VEVENT
DTSTART;VALUE=DATE:20270527
DTEND;VALUE=DATE:20270528
DTSTAMP:20260421T000218
CREATED:20250508T120308Z
LAST-MODIFIED:20250730T111749Z
UID:10000389-1811376000-1811462399@beta.dietetykxxiwieku.pl
SUMMARY:Newsletter dietetyczny
DESCRIPTION:Krótki opis wydarzenia. Jedno zdanie\, które nie będzie bardzo obszerne. Krótki opis wydarzenia. Jedno zdanie\, które nie będzie bardzo obszerne.
URL:https://beta.dietetykxxiwieku.pl/event/newsletter-dietetyczny-5/2027-05-27/
ATTACH;FMTTYPE=image/png:https://beta.dietetykxxiwieku.pl/wp-content/uploads/2025/05/Badania-mikrobioty-i-stosowanie-probiotykow-u-osob-zdrowych-podsumowanie-zalecen-i-wytycznych.png
END:VEVENT
BEGIN:VEVENT
DTSTART;VALUE=DATE:20270603
DTEND;VALUE=DATE:20270604
DTSTAMP:20260421T000218
CREATED:20250508T120308Z
LAST-MODIFIED:20250730T111749Z
UID:10000390-1811980800-1812067199@beta.dietetykxxiwieku.pl
SUMMARY:Newsletter dietetyczny
DESCRIPTION:Krótki opis wydarzenia. Jedno zdanie\, które nie będzie bardzo obszerne. Krótki opis wydarzenia. Jedno zdanie\, które nie będzie bardzo obszerne.
URL:https://beta.dietetykxxiwieku.pl/event/newsletter-dietetyczny-5/2027-06-03/
ATTACH;FMTTYPE=image/png:https://beta.dietetykxxiwieku.pl/wp-content/uploads/2025/05/Badania-mikrobioty-i-stosowanie-probiotykow-u-osob-zdrowych-podsumowanie-zalecen-i-wytycznych.png
END:VEVENT
BEGIN:VEVENT
DTSTART;VALUE=DATE:20270610
DTEND;VALUE=DATE:20270611
DTSTAMP:20260421T000218
CREATED:20250508T120308Z
LAST-MODIFIED:20250730T111749Z
UID:10000391-1812585600-1812671999@beta.dietetykxxiwieku.pl
SUMMARY:Newsletter dietetyczny
DESCRIPTION:Krótki opis wydarzenia. Jedno zdanie\, które nie będzie bardzo obszerne. Krótki opis wydarzenia. Jedno zdanie\, które nie będzie bardzo obszerne.
URL:https://beta.dietetykxxiwieku.pl/event/newsletter-dietetyczny-5/2027-06-10/
ATTACH;FMTTYPE=image/png:https://beta.dietetykxxiwieku.pl/wp-content/uploads/2025/05/Badania-mikrobioty-i-stosowanie-probiotykow-u-osob-zdrowych-podsumowanie-zalecen-i-wytycznych.png
END:VEVENT
BEGIN:VEVENT
DTSTART;VALUE=DATE:20270617
DTEND;VALUE=DATE:20270618
DTSTAMP:20260421T000218
CREATED:20250508T120308Z
LAST-MODIFIED:20250730T111749Z
UID:10000392-1813190400-1813276799@beta.dietetykxxiwieku.pl
SUMMARY:Newsletter dietetyczny
DESCRIPTION:Krótki opis wydarzenia. Jedno zdanie\, które nie będzie bardzo obszerne. Krótki opis wydarzenia. Jedno zdanie\, które nie będzie bardzo obszerne.
URL:https://beta.dietetykxxiwieku.pl/event/newsletter-dietetyczny-5/2027-06-17/
ATTACH;FMTTYPE=image/png:https://beta.dietetykxxiwieku.pl/wp-content/uploads/2025/05/Badania-mikrobioty-i-stosowanie-probiotykow-u-osob-zdrowych-podsumowanie-zalecen-i-wytycznych.png
END:VEVENT
BEGIN:VEVENT
DTSTART;VALUE=DATE:20270624
DTEND;VALUE=DATE:20270625
DTSTAMP:20260421T000218
CREATED:20250508T120308Z
LAST-MODIFIED:20250730T111749Z
UID:10000393-1813795200-1813881599@beta.dietetykxxiwieku.pl
SUMMARY:Newsletter dietetyczny
DESCRIPTION:Krótki opis wydarzenia. Jedno zdanie\, które nie będzie bardzo obszerne. Krótki opis wydarzenia. Jedno zdanie\, które nie będzie bardzo obszerne.
URL:https://beta.dietetykxxiwieku.pl/event/newsletter-dietetyczny-5/2027-06-24/
ATTACH;FMTTYPE=image/png:https://beta.dietetykxxiwieku.pl/wp-content/uploads/2025/05/Badania-mikrobioty-i-stosowanie-probiotykow-u-osob-zdrowych-podsumowanie-zalecen-i-wytycznych.png
END:VEVENT
BEGIN:VEVENT
DTSTART;VALUE=DATE:20270701
DTEND;VALUE=DATE:20270702
DTSTAMP:20260421T000218
CREATED:20250508T120308Z
LAST-MODIFIED:20250730T111749Z
UID:10000394-1814400000-1814486399@beta.dietetykxxiwieku.pl
SUMMARY:Newsletter dietetyczny
DESCRIPTION:Krótki opis wydarzenia. Jedno zdanie\, które nie będzie bardzo obszerne. Krótki opis wydarzenia. Jedno zdanie\, które nie będzie bardzo obszerne.
URL:https://beta.dietetykxxiwieku.pl/event/newsletter-dietetyczny-5/2027-07-01/
ATTACH;FMTTYPE=image/png:https://beta.dietetykxxiwieku.pl/wp-content/uploads/2025/05/Badania-mikrobioty-i-stosowanie-probiotykow-u-osob-zdrowych-podsumowanie-zalecen-i-wytycznych.png
END:VEVENT
BEGIN:VEVENT
DTSTART;VALUE=DATE:20270708
DTEND;VALUE=DATE:20270709
DTSTAMP:20260421T000218
CREATED:20250508T120308Z
LAST-MODIFIED:20250730T111749Z
UID:10000395-1815004800-1815091199@beta.dietetykxxiwieku.pl
SUMMARY:Newsletter dietetyczny
DESCRIPTION:Krótki opis wydarzenia. Jedno zdanie\, które nie będzie bardzo obszerne. Krótki opis wydarzenia. Jedno zdanie\, które nie będzie bardzo obszerne.
URL:https://beta.dietetykxxiwieku.pl/event/newsletter-dietetyczny-5/2027-07-08/
ATTACH;FMTTYPE=image/png:https://beta.dietetykxxiwieku.pl/wp-content/uploads/2025/05/Badania-mikrobioty-i-stosowanie-probiotykow-u-osob-zdrowych-podsumowanie-zalecen-i-wytycznych.png
END:VEVENT
BEGIN:VEVENT
DTSTART;VALUE=DATE:20270715
DTEND;VALUE=DATE:20270716
DTSTAMP:20260421T000218
CREATED:20250508T120308Z
LAST-MODIFIED:20250730T111749Z
UID:10000396-1815609600-1815695999@beta.dietetykxxiwieku.pl
SUMMARY:Newsletter dietetyczny
DESCRIPTION:Krótki opis wydarzenia. Jedno zdanie\, które nie będzie bardzo obszerne. Krótki opis wydarzenia. Jedno zdanie\, które nie będzie bardzo obszerne.
URL:https://beta.dietetykxxiwieku.pl/event/newsletter-dietetyczny-5/2027-07-15/
ATTACH;FMTTYPE=image/png:https://beta.dietetykxxiwieku.pl/wp-content/uploads/2025/05/Badania-mikrobioty-i-stosowanie-probiotykow-u-osob-zdrowych-podsumowanie-zalecen-i-wytycznych.png
END:VEVENT
BEGIN:VEVENT
DTSTART;VALUE=DATE:20270722
DTEND;VALUE=DATE:20270723
DTSTAMP:20260421T000218
CREATED:20250508T120308Z
LAST-MODIFIED:20250730T111749Z
UID:10000397-1816214400-1816300799@beta.dietetykxxiwieku.pl
SUMMARY:Newsletter dietetyczny
DESCRIPTION:Krótki opis wydarzenia. Jedno zdanie\, które nie będzie bardzo obszerne. Krótki opis wydarzenia. Jedno zdanie\, które nie będzie bardzo obszerne.
URL:https://beta.dietetykxxiwieku.pl/event/newsletter-dietetyczny-5/2027-07-22/
ATTACH;FMTTYPE=image/png:https://beta.dietetykxxiwieku.pl/wp-content/uploads/2025/05/Badania-mikrobioty-i-stosowanie-probiotykow-u-osob-zdrowych-podsumowanie-zalecen-i-wytycznych.png
END:VEVENT
BEGIN:VEVENT
DTSTART;VALUE=DATE:20270729
DTEND;VALUE=DATE:20270730
DTSTAMP:20260421T000218
CREATED:20250508T120308Z
LAST-MODIFIED:20250730T111749Z
UID:10000398-1816819200-1816905599@beta.dietetykxxiwieku.pl
SUMMARY:Newsletter dietetyczny
DESCRIPTION:Krótki opis wydarzenia. Jedno zdanie\, które nie będzie bardzo obszerne. Krótki opis wydarzenia. Jedno zdanie\, które nie będzie bardzo obszerne.
URL:https://beta.dietetykxxiwieku.pl/event/newsletter-dietetyczny-5/2027-07-29/
ATTACH;FMTTYPE=image/png:https://beta.dietetykxxiwieku.pl/wp-content/uploads/2025/05/Badania-mikrobioty-i-stosowanie-probiotykow-u-osob-zdrowych-podsumowanie-zalecen-i-wytycznych.png
END:VEVENT
BEGIN:VEVENT
DTSTART;VALUE=DATE:20270805
DTEND;VALUE=DATE:20270806
DTSTAMP:20260421T000218
CREATED:20250508T120308Z
LAST-MODIFIED:20250730T111749Z
UID:10000399-1817424000-1817510399@beta.dietetykxxiwieku.pl
SUMMARY:Newsletter dietetyczny
DESCRIPTION:Krótki opis wydarzenia. Jedno zdanie\, które nie będzie bardzo obszerne. Krótki opis wydarzenia. Jedno zdanie\, które nie będzie bardzo obszerne.
URL:https://beta.dietetykxxiwieku.pl/event/newsletter-dietetyczny-5/2027-08-05/
ATTACH;FMTTYPE=image/png:https://beta.dietetykxxiwieku.pl/wp-content/uploads/2025/05/Badania-mikrobioty-i-stosowanie-probiotykow-u-osob-zdrowych-podsumowanie-zalecen-i-wytycznych.png
END:VEVENT
BEGIN:VEVENT
DTSTART;VALUE=DATE:20270812
DTEND;VALUE=DATE:20270813
DTSTAMP:20260421T000218
CREATED:20250508T120308Z
LAST-MODIFIED:20250730T111749Z
UID:10000400-1818028800-1818115199@beta.dietetykxxiwieku.pl
SUMMARY:Newsletter dietetyczny
DESCRIPTION:Krótki opis wydarzenia. Jedno zdanie\, które nie będzie bardzo obszerne. Krótki opis wydarzenia. Jedno zdanie\, które nie będzie bardzo obszerne.
URL:https://beta.dietetykxxiwieku.pl/event/newsletter-dietetyczny-5/2027-08-12/
ATTACH;FMTTYPE=image/png:https://beta.dietetykxxiwieku.pl/wp-content/uploads/2025/05/Badania-mikrobioty-i-stosowanie-probiotykow-u-osob-zdrowych-podsumowanie-zalecen-i-wytycznych.png
END:VEVENT
BEGIN:VEVENT
DTSTART;VALUE=DATE:20270819
DTEND;VALUE=DATE:20270820
DTSTAMP:20260421T000218
CREATED:20250508T120308Z
LAST-MODIFIED:20250730T111749Z
UID:10000401-1818633600-1818719999@beta.dietetykxxiwieku.pl
SUMMARY:Newsletter dietetyczny
DESCRIPTION:Krótki opis wydarzenia. Jedno zdanie\, które nie będzie bardzo obszerne. Krótki opis wydarzenia. Jedno zdanie\, które nie będzie bardzo obszerne.
URL:https://beta.dietetykxxiwieku.pl/event/newsletter-dietetyczny-5/2027-08-19/
ATTACH;FMTTYPE=image/png:https://beta.dietetykxxiwieku.pl/wp-content/uploads/2025/05/Badania-mikrobioty-i-stosowanie-probiotykow-u-osob-zdrowych-podsumowanie-zalecen-i-wytycznych.png
END:VEVENT
BEGIN:VEVENT
DTSTART;VALUE=DATE:20270826
DTEND;VALUE=DATE:20270827
DTSTAMP:20260421T000218
CREATED:20250508T120308Z
LAST-MODIFIED:20250730T111749Z
UID:10000402-1819238400-1819324799@beta.dietetykxxiwieku.pl
SUMMARY:Newsletter dietetyczny
DESCRIPTION:Krótki opis wydarzenia. Jedno zdanie\, które nie będzie bardzo obszerne. Krótki opis wydarzenia. Jedno zdanie\, które nie będzie bardzo obszerne.
URL:https://beta.dietetykxxiwieku.pl/event/newsletter-dietetyczny-5/2027-08-26/
ATTACH;FMTTYPE=image/png:https://beta.dietetykxxiwieku.pl/wp-content/uploads/2025/05/Badania-mikrobioty-i-stosowanie-probiotykow-u-osob-zdrowych-podsumowanie-zalecen-i-wytycznych.png
END:VEVENT
BEGIN:VEVENT
DTSTART;VALUE=DATE:20270902
DTEND;VALUE=DATE:20270903
DTSTAMP:20260421T000218
CREATED:20250508T120308Z
LAST-MODIFIED:20250730T111749Z
UID:10000403-1819843200-1819929599@beta.dietetykxxiwieku.pl
SUMMARY:Newsletter dietetyczny
DESCRIPTION:Krótki opis wydarzenia. Jedno zdanie\, które nie będzie bardzo obszerne. Krótki opis wydarzenia. Jedno zdanie\, które nie będzie bardzo obszerne.
URL:https://beta.dietetykxxiwieku.pl/event/newsletter-dietetyczny-5/2027-09-02/
ATTACH;FMTTYPE=image/png:https://beta.dietetykxxiwieku.pl/wp-content/uploads/2025/05/Badania-mikrobioty-i-stosowanie-probiotykow-u-osob-zdrowych-podsumowanie-zalecen-i-wytycznych.png
END:VEVENT
BEGIN:VEVENT
DTSTART;VALUE=DATE:20270909
DTEND;VALUE=DATE:20270910
DTSTAMP:20260421T000218
CREATED:20250508T120308Z
LAST-MODIFIED:20250730T111749Z
UID:10000404-1820448000-1820534399@beta.dietetykxxiwieku.pl
SUMMARY:Newsletter dietetyczny
DESCRIPTION:Krótki opis wydarzenia. Jedno zdanie\, które nie będzie bardzo obszerne. Krótki opis wydarzenia. Jedno zdanie\, które nie będzie bardzo obszerne.
URL:https://beta.dietetykxxiwieku.pl/event/newsletter-dietetyczny-5/2027-09-09/
ATTACH;FMTTYPE=image/png:https://beta.dietetykxxiwieku.pl/wp-content/uploads/2025/05/Badania-mikrobioty-i-stosowanie-probiotykow-u-osob-zdrowych-podsumowanie-zalecen-i-wytycznych.png
END:VEVENT
BEGIN:VEVENT
DTSTART;VALUE=DATE:20270916
DTEND;VALUE=DATE:20270917
DTSTAMP:20260421T000218
CREATED:20250508T120308Z
LAST-MODIFIED:20250730T111749Z
UID:10000405-1821052800-1821139199@beta.dietetykxxiwieku.pl
SUMMARY:Newsletter dietetyczny
DESCRIPTION:Krótki opis wydarzenia. Jedno zdanie\, które nie będzie bardzo obszerne. Krótki opis wydarzenia. Jedno zdanie\, które nie będzie bardzo obszerne.
URL:https://beta.dietetykxxiwieku.pl/event/newsletter-dietetyczny-5/2027-09-16/
ATTACH;FMTTYPE=image/png:https://beta.dietetykxxiwieku.pl/wp-content/uploads/2025/05/Badania-mikrobioty-i-stosowanie-probiotykow-u-osob-zdrowych-podsumowanie-zalecen-i-wytycznych.png
END:VEVENT
BEGIN:VEVENT
DTSTART;VALUE=DATE:20270923
DTEND;VALUE=DATE:20270924
DTSTAMP:20260421T000218
CREATED:20250508T120308Z
LAST-MODIFIED:20250730T111749Z
UID:10000406-1821657600-1821743999@beta.dietetykxxiwieku.pl
SUMMARY:Newsletter dietetyczny
DESCRIPTION:Krótki opis wydarzenia. Jedno zdanie\, które nie będzie bardzo obszerne. Krótki opis wydarzenia. Jedno zdanie\, które nie będzie bardzo obszerne.
URL:https://beta.dietetykxxiwieku.pl/event/newsletter-dietetyczny-5/2027-09-23/
ATTACH;FMTTYPE=image/png:https://beta.dietetykxxiwieku.pl/wp-content/uploads/2025/05/Badania-mikrobioty-i-stosowanie-probiotykow-u-osob-zdrowych-podsumowanie-zalecen-i-wytycznych.png
END:VEVENT
END:VCALENDAR