BEGIN:VCALENDAR
VERSION:2.0
PRODID:-//Dietetyk XXI Wieku - ECPv6.15.12.2//NONSGML v1.0//EN
CALSCALE:GREGORIAN
METHOD:PUBLISH
X-ORIGINAL-URL:https://beta.dietetykxxiwieku.pl
X-WR-CALDESC:Wydarzenia dla Dietetyk XXI Wieku
REFRESH-INTERVAL;VALUE=DURATION:PT1H
X-Robots-Tag:noindex
X-PUBLISHED-TTL:PT1H
BEGIN:VTIMEZONE
TZID:Europe/Warsaw
BEGIN:DAYLIGHT
TZOFFSETFROM:+0100
TZOFFSETTO:+0200
TZNAME:CEST
DTSTART:20240331T010000
END:DAYLIGHT
BEGIN:STANDARD
TZOFFSETFROM:+0200
TZOFFSETTO:+0100
TZNAME:CET
DTSTART:20241027T010000
END:STANDARD
BEGIN:DAYLIGHT
TZOFFSETFROM:+0100
TZOFFSETTO:+0200
TZNAME:CEST
DTSTART:20250330T010000
END:DAYLIGHT
BEGIN:STANDARD
TZOFFSETFROM:+0200
TZOFFSETTO:+0100
TZNAME:CET
DTSTART:20251026T010000
END:STANDARD
BEGIN:DAYLIGHT
TZOFFSETFROM:+0100
TZOFFSETTO:+0200
TZNAME:CEST
DTSTART:20260329T010000
END:DAYLIGHT
BEGIN:STANDARD
TZOFFSETFROM:+0200
TZOFFSETTO:+0100
TZNAME:CET
DTSTART:20261025T010000
END:STANDARD
BEGIN:DAYLIGHT
TZOFFSETFROM:+0100
TZOFFSETTO:+0200
TZNAME:CEST
DTSTART:20270328T010000
END:DAYLIGHT
BEGIN:STANDARD
TZOFFSETFROM:+0200
TZOFFSETTO:+0100
TZNAME:CET
DTSTART:20271031T010000
END:STANDARD
END:VTIMEZONE
BEGIN:VEVENT
DTSTART;VALUE=DATE:20260416
DTEND;VALUE=DATE:20260417
DTSTAMP:20260420T152402
CREATED:20250508T120308Z
LAST-MODIFIED:20250730T111749Z
UID:10000331-1776297600-1776383999@beta.dietetykxxiwieku.pl
SUMMARY:Newsletter dietetyczny
DESCRIPTION:Krótki opis wydarzenia. Jedno zdanie\, które nie będzie bardzo obszerne. Krótki opis wydarzenia. Jedno zdanie\, które nie będzie bardzo obszerne.
URL:https://beta.dietetykxxiwieku.pl/event/newsletter-dietetyczny-5/2026-04-16/
ATTACH;FMTTYPE=image/png:https://beta.dietetykxxiwieku.pl/wp-content/uploads/2025/05/Badania-mikrobioty-i-stosowanie-probiotykow-u-osob-zdrowych-podsumowanie-zalecen-i-wytycznych.png
END:VEVENT
BEGIN:VEVENT
DTSTART;VALUE=DATE:20260409
DTEND;VALUE=DATE:20260410
DTSTAMP:20260420T152402
CREATED:20250508T120308Z
LAST-MODIFIED:20250730T111749Z
UID:10000330-1775692800-1775779199@beta.dietetykxxiwieku.pl
SUMMARY:Newsletter dietetyczny
DESCRIPTION:Krótki opis wydarzenia. Jedno zdanie\, które nie będzie bardzo obszerne. Krótki opis wydarzenia. Jedno zdanie\, które nie będzie bardzo obszerne.
URL:https://beta.dietetykxxiwieku.pl/event/newsletter-dietetyczny-5/2026-04-09/
ATTACH;FMTTYPE=image/png:https://beta.dietetykxxiwieku.pl/wp-content/uploads/2025/05/Badania-mikrobioty-i-stosowanie-probiotykow-u-osob-zdrowych-podsumowanie-zalecen-i-wytycznych.png
END:VEVENT
BEGIN:VEVENT
DTSTART;VALUE=DATE:20260402
DTEND;VALUE=DATE:20260403
DTSTAMP:20260420T152402
CREATED:20250508T120308Z
LAST-MODIFIED:20250730T111749Z
UID:10000329-1775088000-1775174399@beta.dietetykxxiwieku.pl
SUMMARY:Newsletter dietetyczny
DESCRIPTION:Krótki opis wydarzenia. Jedno zdanie\, które nie będzie bardzo obszerne. Krótki opis wydarzenia. Jedno zdanie\, które nie będzie bardzo obszerne.
URL:https://beta.dietetykxxiwieku.pl/event/newsletter-dietetyczny-5/2026-04-02/
ATTACH;FMTTYPE=image/png:https://beta.dietetykxxiwieku.pl/wp-content/uploads/2025/05/Badania-mikrobioty-i-stosowanie-probiotykow-u-osob-zdrowych-podsumowanie-zalecen-i-wytycznych.png
END:VEVENT
BEGIN:VEVENT
DTSTART;VALUE=DATE:20260326
DTEND;VALUE=DATE:20260327
DTSTAMP:20260420T152402
CREATED:20250508T120308Z
LAST-MODIFIED:20250730T111749Z
UID:10000328-1774483200-1774569599@beta.dietetykxxiwieku.pl
SUMMARY:Newsletter dietetyczny
DESCRIPTION:Krótki opis wydarzenia. Jedno zdanie\, które nie będzie bardzo obszerne. Krótki opis wydarzenia. Jedno zdanie\, które nie będzie bardzo obszerne.
URL:https://beta.dietetykxxiwieku.pl/event/newsletter-dietetyczny-5/2026-03-26/
ATTACH;FMTTYPE=image/png:https://beta.dietetykxxiwieku.pl/wp-content/uploads/2025/05/Badania-mikrobioty-i-stosowanie-probiotykow-u-osob-zdrowych-podsumowanie-zalecen-i-wytycznych.png
END:VEVENT
BEGIN:VEVENT
DTSTART;VALUE=DATE:20260319
DTEND;VALUE=DATE:20260320
DTSTAMP:20260420T152402
CREATED:20250508T120308Z
LAST-MODIFIED:20250730T111749Z
UID:10000327-1773878400-1773964799@beta.dietetykxxiwieku.pl
SUMMARY:Newsletter dietetyczny
DESCRIPTION:Krótki opis wydarzenia. Jedno zdanie\, które nie będzie bardzo obszerne. Krótki opis wydarzenia. Jedno zdanie\, które nie będzie bardzo obszerne.
URL:https://beta.dietetykxxiwieku.pl/event/newsletter-dietetyczny-5/2026-03-19/
ATTACH;FMTTYPE=image/png:https://beta.dietetykxxiwieku.pl/wp-content/uploads/2025/05/Badania-mikrobioty-i-stosowanie-probiotykow-u-osob-zdrowych-podsumowanie-zalecen-i-wytycznych.png
END:VEVENT
BEGIN:VEVENT
DTSTART;VALUE=DATE:20260312
DTEND;VALUE=DATE:20260313
DTSTAMP:20260420T152402
CREATED:20250508T120308Z
LAST-MODIFIED:20250730T111749Z
UID:10000326-1773273600-1773359999@beta.dietetykxxiwieku.pl
SUMMARY:Newsletter dietetyczny
DESCRIPTION:Krótki opis wydarzenia. Jedno zdanie\, które nie będzie bardzo obszerne. Krótki opis wydarzenia. Jedno zdanie\, które nie będzie bardzo obszerne.
URL:https://beta.dietetykxxiwieku.pl/event/newsletter-dietetyczny-5/2026-03-12/
ATTACH;FMTTYPE=image/png:https://beta.dietetykxxiwieku.pl/wp-content/uploads/2025/05/Badania-mikrobioty-i-stosowanie-probiotykow-u-osob-zdrowych-podsumowanie-zalecen-i-wytycznych.png
END:VEVENT
BEGIN:VEVENT
DTSTART;VALUE=DATE:20260305
DTEND;VALUE=DATE:20260306
DTSTAMP:20260420T152402
CREATED:20250508T120308Z
LAST-MODIFIED:20250730T111749Z
UID:10000325-1772668800-1772755199@beta.dietetykxxiwieku.pl
SUMMARY:Newsletter dietetyczny
DESCRIPTION:Krótki opis wydarzenia. Jedno zdanie\, które nie będzie bardzo obszerne. Krótki opis wydarzenia. Jedno zdanie\, które nie będzie bardzo obszerne.
URL:https://beta.dietetykxxiwieku.pl/event/newsletter-dietetyczny-5/2026-03-05/
ATTACH;FMTTYPE=image/png:https://beta.dietetykxxiwieku.pl/wp-content/uploads/2025/05/Badania-mikrobioty-i-stosowanie-probiotykow-u-osob-zdrowych-podsumowanie-zalecen-i-wytycznych.png
END:VEVENT
BEGIN:VEVENT
DTSTART;VALUE=DATE:20260226
DTEND;VALUE=DATE:20260227
DTSTAMP:20260420T152402
CREATED:20250508T120308Z
LAST-MODIFIED:20250730T111749Z
UID:10000324-1772064000-1772150399@beta.dietetykxxiwieku.pl
SUMMARY:Newsletter dietetyczny
DESCRIPTION:Krótki opis wydarzenia. Jedno zdanie\, które nie będzie bardzo obszerne. Krótki opis wydarzenia. Jedno zdanie\, które nie będzie bardzo obszerne.
URL:https://beta.dietetykxxiwieku.pl/event/newsletter-dietetyczny-5/2026-02-26/
ATTACH;FMTTYPE=image/png:https://beta.dietetykxxiwieku.pl/wp-content/uploads/2025/05/Badania-mikrobioty-i-stosowanie-probiotykow-u-osob-zdrowych-podsumowanie-zalecen-i-wytycznych.png
END:VEVENT
BEGIN:VEVENT
DTSTART;VALUE=DATE:20260219
DTEND;VALUE=DATE:20260220
DTSTAMP:20260420T152402
CREATED:20250508T120308Z
LAST-MODIFIED:20250730T111749Z
UID:10000323-1771459200-1771545599@beta.dietetykxxiwieku.pl
SUMMARY:Newsletter dietetyczny
DESCRIPTION:Krótki opis wydarzenia. Jedno zdanie\, które nie będzie bardzo obszerne. Krótki opis wydarzenia. Jedno zdanie\, które nie będzie bardzo obszerne.
URL:https://beta.dietetykxxiwieku.pl/event/newsletter-dietetyczny-5/2026-02-19/
ATTACH;FMTTYPE=image/png:https://beta.dietetykxxiwieku.pl/wp-content/uploads/2025/05/Badania-mikrobioty-i-stosowanie-probiotykow-u-osob-zdrowych-podsumowanie-zalecen-i-wytycznych.png
END:VEVENT
BEGIN:VEVENT
DTSTART;VALUE=DATE:20260212
DTEND;VALUE=DATE:20260213
DTSTAMP:20260420T152402
CREATED:20250508T120308Z
LAST-MODIFIED:20250730T111749Z
UID:10000322-1770854400-1770940799@beta.dietetykxxiwieku.pl
SUMMARY:Newsletter dietetyczny
DESCRIPTION:Krótki opis wydarzenia. Jedno zdanie\, które nie będzie bardzo obszerne. Krótki opis wydarzenia. Jedno zdanie\, które nie będzie bardzo obszerne.
URL:https://beta.dietetykxxiwieku.pl/event/newsletter-dietetyczny-5/2026-02-12/
ATTACH;FMTTYPE=image/png:https://beta.dietetykxxiwieku.pl/wp-content/uploads/2025/05/Badania-mikrobioty-i-stosowanie-probiotykow-u-osob-zdrowych-podsumowanie-zalecen-i-wytycznych.png
END:VEVENT
BEGIN:VEVENT
DTSTART;VALUE=DATE:20260205
DTEND;VALUE=DATE:20260206
DTSTAMP:20260420T152402
CREATED:20250508T120308Z
LAST-MODIFIED:20250730T111749Z
UID:10000321-1770249600-1770335999@beta.dietetykxxiwieku.pl
SUMMARY:Newsletter dietetyczny
DESCRIPTION:Krótki opis wydarzenia. Jedno zdanie\, które nie będzie bardzo obszerne. Krótki opis wydarzenia. Jedno zdanie\, które nie będzie bardzo obszerne.
URL:https://beta.dietetykxxiwieku.pl/event/newsletter-dietetyczny-5/2026-02-05/
ATTACH;FMTTYPE=image/png:https://beta.dietetykxxiwieku.pl/wp-content/uploads/2025/05/Badania-mikrobioty-i-stosowanie-probiotykow-u-osob-zdrowych-podsumowanie-zalecen-i-wytycznych.png
END:VEVENT
BEGIN:VEVENT
DTSTART;VALUE=DATE:20260129
DTEND;VALUE=DATE:20260130
DTSTAMP:20260420T152402
CREATED:20250508T120308Z
LAST-MODIFIED:20250730T111749Z
UID:10000320-1769644800-1769731199@beta.dietetykxxiwieku.pl
SUMMARY:Newsletter dietetyczny
DESCRIPTION:Krótki opis wydarzenia. Jedno zdanie\, które nie będzie bardzo obszerne. Krótki opis wydarzenia. Jedno zdanie\, które nie będzie bardzo obszerne.
URL:https://beta.dietetykxxiwieku.pl/event/newsletter-dietetyczny-5/2026-01-29/
ATTACH;FMTTYPE=image/png:https://beta.dietetykxxiwieku.pl/wp-content/uploads/2025/05/Badania-mikrobioty-i-stosowanie-probiotykow-u-osob-zdrowych-podsumowanie-zalecen-i-wytycznych.png
END:VEVENT
BEGIN:VEVENT
DTSTART;VALUE=DATE:20260122
DTEND;VALUE=DATE:20260123
DTSTAMP:20260420T152402
CREATED:20250508T120308Z
LAST-MODIFIED:20250730T111749Z
UID:10000319-1769040000-1769126399@beta.dietetykxxiwieku.pl
SUMMARY:Newsletter dietetyczny
DESCRIPTION:Krótki opis wydarzenia. Jedno zdanie\, które nie będzie bardzo obszerne. Krótki opis wydarzenia. Jedno zdanie\, które nie będzie bardzo obszerne.
URL:https://beta.dietetykxxiwieku.pl/event/newsletter-dietetyczny-5/2026-01-22/
ATTACH;FMTTYPE=image/png:https://beta.dietetykxxiwieku.pl/wp-content/uploads/2025/05/Badania-mikrobioty-i-stosowanie-probiotykow-u-osob-zdrowych-podsumowanie-zalecen-i-wytycznych.png
END:VEVENT
BEGIN:VEVENT
DTSTART;VALUE=DATE:20260115
DTEND;VALUE=DATE:20260116
DTSTAMP:20260420T152402
CREATED:20250508T120308Z
LAST-MODIFIED:20250730T111749Z
UID:10000318-1768435200-1768521599@beta.dietetykxxiwieku.pl
SUMMARY:Newsletter dietetyczny
DESCRIPTION:Krótki opis wydarzenia. Jedno zdanie\, które nie będzie bardzo obszerne. Krótki opis wydarzenia. Jedno zdanie\, które nie będzie bardzo obszerne.
URL:https://beta.dietetykxxiwieku.pl/event/newsletter-dietetyczny-5/2026-01-15/
ATTACH;FMTTYPE=image/png:https://beta.dietetykxxiwieku.pl/wp-content/uploads/2025/05/Badania-mikrobioty-i-stosowanie-probiotykow-u-osob-zdrowych-podsumowanie-zalecen-i-wytycznych.png
END:VEVENT
BEGIN:VEVENT
DTSTART;VALUE=DATE:20260108
DTEND;VALUE=DATE:20260109
DTSTAMP:20260420T152402
CREATED:20250508T120308Z
LAST-MODIFIED:20250730T111749Z
UID:10000317-1767830400-1767916799@beta.dietetykxxiwieku.pl
SUMMARY:Newsletter dietetyczny
DESCRIPTION:Krótki opis wydarzenia. Jedno zdanie\, które nie będzie bardzo obszerne. Krótki opis wydarzenia. Jedno zdanie\, które nie będzie bardzo obszerne.
URL:https://beta.dietetykxxiwieku.pl/event/newsletter-dietetyczny-5/2026-01-08/
ATTACH;FMTTYPE=image/png:https://beta.dietetykxxiwieku.pl/wp-content/uploads/2025/05/Badania-mikrobioty-i-stosowanie-probiotykow-u-osob-zdrowych-podsumowanie-zalecen-i-wytycznych.png
END:VEVENT
BEGIN:VEVENT
DTSTART;VALUE=DATE:20260101
DTEND;VALUE=DATE:20260102
DTSTAMP:20260420T152402
CREATED:20250508T120308Z
LAST-MODIFIED:20250730T111749Z
UID:10000316-1767225600-1767311999@beta.dietetykxxiwieku.pl
SUMMARY:Newsletter dietetyczny
DESCRIPTION:Krótki opis wydarzenia. Jedno zdanie\, które nie będzie bardzo obszerne. Krótki opis wydarzenia. Jedno zdanie\, które nie będzie bardzo obszerne.
URL:https://beta.dietetykxxiwieku.pl/event/newsletter-dietetyczny-5/2026-01-01/
ATTACH;FMTTYPE=image/png:https://beta.dietetykxxiwieku.pl/wp-content/uploads/2025/05/Badania-mikrobioty-i-stosowanie-probiotykow-u-osob-zdrowych-podsumowanie-zalecen-i-wytycznych.png
END:VEVENT
BEGIN:VEVENT
DTSTART;VALUE=DATE:20251225
DTEND;VALUE=DATE:20251226
DTSTAMP:20260420T152402
CREATED:20250508T120308Z
LAST-MODIFIED:20250730T111749Z
UID:10000315-1766620800-1766707199@beta.dietetykxxiwieku.pl
SUMMARY:Newsletter dietetyczny
DESCRIPTION:Krótki opis wydarzenia. Jedno zdanie\, które nie będzie bardzo obszerne. Krótki opis wydarzenia. Jedno zdanie\, które nie będzie bardzo obszerne.
URL:https://beta.dietetykxxiwieku.pl/event/newsletter-dietetyczny-5/2025-12-25/
ATTACH;FMTTYPE=image/png:https://beta.dietetykxxiwieku.pl/wp-content/uploads/2025/05/Badania-mikrobioty-i-stosowanie-probiotykow-u-osob-zdrowych-podsumowanie-zalecen-i-wytycznych.png
END:VEVENT
BEGIN:VEVENT
DTSTART;VALUE=DATE:20251218
DTEND;VALUE=DATE:20251219
DTSTAMP:20260420T152402
CREATED:20250508T120308Z
LAST-MODIFIED:20250730T111749Z
UID:10000314-1766016000-1766102399@beta.dietetykxxiwieku.pl
SUMMARY:Newsletter dietetyczny
DESCRIPTION:Krótki opis wydarzenia. Jedno zdanie\, które nie będzie bardzo obszerne. Krótki opis wydarzenia. Jedno zdanie\, które nie będzie bardzo obszerne.
URL:https://beta.dietetykxxiwieku.pl/event/newsletter-dietetyczny-5/2025-12-18/
ATTACH;FMTTYPE=image/png:https://beta.dietetykxxiwieku.pl/wp-content/uploads/2025/05/Badania-mikrobioty-i-stosowanie-probiotykow-u-osob-zdrowych-podsumowanie-zalecen-i-wytycznych.png
END:VEVENT
BEGIN:VEVENT
DTSTART;VALUE=DATE:20251211
DTEND;VALUE=DATE:20251212
DTSTAMP:20260420T152402
CREATED:20250508T120308Z
LAST-MODIFIED:20250730T111749Z
UID:10000313-1765411200-1765497599@beta.dietetykxxiwieku.pl
SUMMARY:Newsletter dietetyczny
DESCRIPTION:Krótki opis wydarzenia. Jedno zdanie\, które nie będzie bardzo obszerne. Krótki opis wydarzenia. Jedno zdanie\, które nie będzie bardzo obszerne.
URL:https://beta.dietetykxxiwieku.pl/event/newsletter-dietetyczny-5/2025-12-11/
ATTACH;FMTTYPE=image/png:https://beta.dietetykxxiwieku.pl/wp-content/uploads/2025/05/Badania-mikrobioty-i-stosowanie-probiotykow-u-osob-zdrowych-podsumowanie-zalecen-i-wytycznych.png
END:VEVENT
BEGIN:VEVENT
DTSTART;VALUE=DATE:20251204
DTEND;VALUE=DATE:20251205
DTSTAMP:20260420T152402
CREATED:20250508T120308Z
LAST-MODIFIED:20250730T111749Z
UID:10000312-1764806400-1764892799@beta.dietetykxxiwieku.pl
SUMMARY:Newsletter dietetyczny
DESCRIPTION:Krótki opis wydarzenia. Jedno zdanie\, które nie będzie bardzo obszerne. Krótki opis wydarzenia. Jedno zdanie\, które nie będzie bardzo obszerne.
URL:https://beta.dietetykxxiwieku.pl/event/newsletter-dietetyczny-5/2025-12-04/
ATTACH;FMTTYPE=image/png:https://beta.dietetykxxiwieku.pl/wp-content/uploads/2025/05/Badania-mikrobioty-i-stosowanie-probiotykow-u-osob-zdrowych-podsumowanie-zalecen-i-wytycznych.png
END:VEVENT
BEGIN:VEVENT
DTSTART;VALUE=DATE:20251127
DTEND;VALUE=DATE:20251128
DTSTAMP:20260420T152402
CREATED:20250508T120308Z
LAST-MODIFIED:20250730T111749Z
UID:10000311-1764201600-1764287999@beta.dietetykxxiwieku.pl
SUMMARY:Newsletter dietetyczny
DESCRIPTION:Krótki opis wydarzenia. Jedno zdanie\, które nie będzie bardzo obszerne. Krótki opis wydarzenia. Jedno zdanie\, które nie będzie bardzo obszerne.
URL:https://beta.dietetykxxiwieku.pl/event/newsletter-dietetyczny-5/2025-11-27/
ATTACH;FMTTYPE=image/png:https://beta.dietetykxxiwieku.pl/wp-content/uploads/2025/05/Badania-mikrobioty-i-stosowanie-probiotykow-u-osob-zdrowych-podsumowanie-zalecen-i-wytycznych.png
END:VEVENT
BEGIN:VEVENT
DTSTART;VALUE=DATE:20251120
DTEND;VALUE=DATE:20251121
DTSTAMP:20260420T152402
CREATED:20250508T120308Z
LAST-MODIFIED:20250730T111749Z
UID:10000310-1763596800-1763683199@beta.dietetykxxiwieku.pl
SUMMARY:Newsletter dietetyczny
DESCRIPTION:Krótki opis wydarzenia. Jedno zdanie\, które nie będzie bardzo obszerne. Krótki opis wydarzenia. Jedno zdanie\, które nie będzie bardzo obszerne.
URL:https://beta.dietetykxxiwieku.pl/event/newsletter-dietetyczny-5/2025-11-20/
ATTACH;FMTTYPE=image/png:https://beta.dietetykxxiwieku.pl/wp-content/uploads/2025/05/Badania-mikrobioty-i-stosowanie-probiotykow-u-osob-zdrowych-podsumowanie-zalecen-i-wytycznych.png
END:VEVENT
BEGIN:VEVENT
DTSTART;VALUE=DATE:20251113
DTEND;VALUE=DATE:20251114
DTSTAMP:20260420T152402
CREATED:20250508T120308Z
LAST-MODIFIED:20250730T111749Z
UID:10000309-1762992000-1763078399@beta.dietetykxxiwieku.pl
SUMMARY:Newsletter dietetyczny
DESCRIPTION:Krótki opis wydarzenia. Jedno zdanie\, które nie będzie bardzo obszerne. Krótki opis wydarzenia. Jedno zdanie\, które nie będzie bardzo obszerne.
URL:https://beta.dietetykxxiwieku.pl/event/newsletter-dietetyczny-5/2025-11-13/
ATTACH;FMTTYPE=image/png:https://beta.dietetykxxiwieku.pl/wp-content/uploads/2025/05/Badania-mikrobioty-i-stosowanie-probiotykow-u-osob-zdrowych-podsumowanie-zalecen-i-wytycznych.png
END:VEVENT
BEGIN:VEVENT
DTSTART;VALUE=DATE:20251106
DTEND;VALUE=DATE:20251107
DTSTAMP:20260420T152402
CREATED:20250508T120308Z
LAST-MODIFIED:20250730T111749Z
UID:10000308-1762387200-1762473599@beta.dietetykxxiwieku.pl
SUMMARY:Newsletter dietetyczny
DESCRIPTION:Krótki opis wydarzenia. Jedno zdanie\, które nie będzie bardzo obszerne. Krótki opis wydarzenia. Jedno zdanie\, które nie będzie bardzo obszerne.
URL:https://beta.dietetykxxiwieku.pl/event/newsletter-dietetyczny-5/2025-11-06/
ATTACH;FMTTYPE=image/png:https://beta.dietetykxxiwieku.pl/wp-content/uploads/2025/05/Badania-mikrobioty-i-stosowanie-probiotykow-u-osob-zdrowych-podsumowanie-zalecen-i-wytycznych.png
END:VEVENT
BEGIN:VEVENT
DTSTART;VALUE=DATE:20251030
DTEND;VALUE=DATE:20251031
DTSTAMP:20260420T152402
CREATED:20250508T120308Z
LAST-MODIFIED:20250730T111749Z
UID:10000307-1761782400-1761868799@beta.dietetykxxiwieku.pl
SUMMARY:Newsletter dietetyczny
DESCRIPTION:Krótki opis wydarzenia. Jedno zdanie\, które nie będzie bardzo obszerne. Krótki opis wydarzenia. Jedno zdanie\, które nie będzie bardzo obszerne.
URL:https://beta.dietetykxxiwieku.pl/event/newsletter-dietetyczny-5/2025-10-30/
ATTACH;FMTTYPE=image/png:https://beta.dietetykxxiwieku.pl/wp-content/uploads/2025/05/Badania-mikrobioty-i-stosowanie-probiotykow-u-osob-zdrowych-podsumowanie-zalecen-i-wytycznych.png
END:VEVENT
BEGIN:VEVENT
DTSTART;VALUE=DATE:20251023
DTEND;VALUE=DATE:20251024
DTSTAMP:20260420T152402
CREATED:20250508T120308Z
LAST-MODIFIED:20250730T111749Z
UID:10000306-1761177600-1761263999@beta.dietetykxxiwieku.pl
SUMMARY:Newsletter dietetyczny
DESCRIPTION:Krótki opis wydarzenia. Jedno zdanie\, które nie będzie bardzo obszerne. Krótki opis wydarzenia. Jedno zdanie\, które nie będzie bardzo obszerne.
URL:https://beta.dietetykxxiwieku.pl/event/newsletter-dietetyczny-5/2025-10-23/
ATTACH;FMTTYPE=image/png:https://beta.dietetykxxiwieku.pl/wp-content/uploads/2025/05/Badania-mikrobioty-i-stosowanie-probiotykow-u-osob-zdrowych-podsumowanie-zalecen-i-wytycznych.png
END:VEVENT
BEGIN:VEVENT
DTSTART;VALUE=DATE:20251016
DTEND;VALUE=DATE:20251017
DTSTAMP:20260420T152402
CREATED:20250508T120308Z
LAST-MODIFIED:20250730T111749Z
UID:10000305-1760572800-1760659199@beta.dietetykxxiwieku.pl
SUMMARY:Newsletter dietetyczny
DESCRIPTION:Krótki opis wydarzenia. Jedno zdanie\, które nie będzie bardzo obszerne. Krótki opis wydarzenia. Jedno zdanie\, które nie będzie bardzo obszerne.
URL:https://beta.dietetykxxiwieku.pl/event/newsletter-dietetyczny-5/2025-10-16/
ATTACH;FMTTYPE=image/png:https://beta.dietetykxxiwieku.pl/wp-content/uploads/2025/05/Badania-mikrobioty-i-stosowanie-probiotykow-u-osob-zdrowych-podsumowanie-zalecen-i-wytycznych.png
END:VEVENT
BEGIN:VEVENT
DTSTART;VALUE=DATE:20251009
DTEND;VALUE=DATE:20251010
DTSTAMP:20260420T152402
CREATED:20250508T120308Z
LAST-MODIFIED:20250730T111749Z
UID:10000304-1759968000-1760054399@beta.dietetykxxiwieku.pl
SUMMARY:Newsletter dietetyczny
DESCRIPTION:Krótki opis wydarzenia. Jedno zdanie\, które nie będzie bardzo obszerne. Krótki opis wydarzenia. Jedno zdanie\, które nie będzie bardzo obszerne.
URL:https://beta.dietetykxxiwieku.pl/event/newsletter-dietetyczny-5/2025-10-09/
ATTACH;FMTTYPE=image/png:https://beta.dietetykxxiwieku.pl/wp-content/uploads/2025/05/Badania-mikrobioty-i-stosowanie-probiotykow-u-osob-zdrowych-podsumowanie-zalecen-i-wytycznych.png
END:VEVENT
BEGIN:VEVENT
DTSTART;VALUE=DATE:20251002
DTEND;VALUE=DATE:20251003
DTSTAMP:20260420T152402
CREATED:20250508T120308Z
LAST-MODIFIED:20250730T111749Z
UID:10000303-1759363200-1759449599@beta.dietetykxxiwieku.pl
SUMMARY:Newsletter dietetyczny
DESCRIPTION:Krótki opis wydarzenia. Jedno zdanie\, które nie będzie bardzo obszerne. Krótki opis wydarzenia. Jedno zdanie\, które nie będzie bardzo obszerne.
URL:https://beta.dietetykxxiwieku.pl/event/newsletter-dietetyczny-5/2025-10-02/
ATTACH;FMTTYPE=image/png:https://beta.dietetykxxiwieku.pl/wp-content/uploads/2025/05/Badania-mikrobioty-i-stosowanie-probiotykow-u-osob-zdrowych-podsumowanie-zalecen-i-wytycznych.png
END:VEVENT
BEGIN:VEVENT
DTSTART;VALUE=DATE:20250925
DTEND;VALUE=DATE:20250926
DTSTAMP:20260420T152402
CREATED:20250508T120308Z
LAST-MODIFIED:20250730T111749Z
UID:10000302-1758758400-1758844799@beta.dietetykxxiwieku.pl
SUMMARY:Newsletter dietetyczny
DESCRIPTION:Krótki opis wydarzenia. Jedno zdanie\, które nie będzie bardzo obszerne. Krótki opis wydarzenia. Jedno zdanie\, które nie będzie bardzo obszerne.
URL:https://beta.dietetykxxiwieku.pl/event/newsletter-dietetyczny-5/2025-09-25/
ATTACH;FMTTYPE=image/png:https://beta.dietetykxxiwieku.pl/wp-content/uploads/2025/05/Badania-mikrobioty-i-stosowanie-probiotykow-u-osob-zdrowych-podsumowanie-zalecen-i-wytycznych.png
END:VEVENT
END:VCALENDAR